BEGIN:VCALENDAR
VERSION:2.0
PRODID:-//New Hope Driffield - ECPv6.15.14//NONSGML v1.0//EN
CALSCALE:GREGORIAN
METHOD:PUBLISH
X-WR-CALNAME:New Hope Driffield
X-ORIGINAL-URL:https://newhopedriffield.co.uk
X-WR-CALDESC:Events for New Hope Driffield
REFRESH-INTERVAL;VALUE=DURATION:PT1H
X-Robots-Tag:noindex
X-PUBLISHED-TTL:PT1H
BEGIN:VTIMEZONE
TZID:Europe/London
BEGIN:DAYLIGHT
TZOFFSETFROM:+0000
TZOFFSETTO:+0100
TZNAME:BST
DTSTART:20230326T010000
END:DAYLIGHT
BEGIN:STANDARD
TZOFFSETFROM:+0100
TZOFFSETTO:+0000
TZNAME:GMT
DTSTART:20231029T010000
END:STANDARD
BEGIN:DAYLIGHT
TZOFFSETFROM:+0000
TZOFFSETTO:+0100
TZNAME:BST
DTSTART:20240331T010000
END:DAYLIGHT
BEGIN:STANDARD
TZOFFSETFROM:+0100
TZOFFSETTO:+0000
TZNAME:GMT
DTSTART:20241027T010000
END:STANDARD
BEGIN:DAYLIGHT
TZOFFSETFROM:+0000
TZOFFSETTO:+0100
TZNAME:BST
DTSTART:20250330T010000
END:DAYLIGHT
BEGIN:STANDARD
TZOFFSETFROM:+0100
TZOFFSETTO:+0000
TZNAME:GMT
DTSTART:20251026T010000
END:STANDARD
BEGIN:DAYLIGHT
TZOFFSETFROM:+0000
TZOFFSETTO:+0100
TZNAME:BST
DTSTART:20260329T010000
END:DAYLIGHT
BEGIN:STANDARD
TZOFFSETFROM:+0100
TZOFFSETTO:+0000
TZNAME:GMT
DTSTART:20261025T010000
END:STANDARD
BEGIN:DAYLIGHT
TZOFFSETFROM:+0000
TZOFFSETTO:+0100
TZNAME:BST
DTSTART:20270328T010000
END:DAYLIGHT
BEGIN:STANDARD
TZOFFSETFROM:+0100
TZOFFSETTO:+0000
TZNAME:GMT
DTSTART:20271031T010000
END:STANDARD
END:VTIMEZONE
BEGIN:VEVENT
DTSTART;TZID=Europe/London:20260125T103000
DTEND;TZID=Europe/London:20260125T120000
DTSTAMP:20260422T010023
CREATED:20251108T131919Z
LAST-MODIFIED:20251108T131919Z
UID:35733-1769337000-1769342400@newhopedriffield.co.uk
SUMMARY:Sunday Morning Worship
DESCRIPTION:
URL:https://newhopedriffield.co.uk/index.php/event/sunday-morning-worship-4/
END:VEVENT
BEGIN:VEVENT
DTSTART;TZID=Europe/London:20260118T103000
DTEND;TZID=Europe/London:20260118T120000
DTSTAMP:20260422T010023
CREATED:20251108T131900Z
LAST-MODIFIED:20251108T131900Z
UID:35731-1768732200-1768737600@newhopedriffield.co.uk
SUMMARY:Sunday Morning Worship
DESCRIPTION:
URL:https://newhopedriffield.co.uk/index.php/event/sunday-morning-worship-3/
END:VEVENT
BEGIN:VEVENT
DTSTART;TZID=Europe/London:20260111T103000
DTEND;TZID=Europe/London:20260111T120000
DTSTAMP:20260422T010023
CREATED:20251108T131835Z
LAST-MODIFIED:20251108T131835Z
UID:35729-1768127400-1768132800@newhopedriffield.co.uk
SUMMARY:Sunday Morning Worship
DESCRIPTION:
URL:https://newhopedriffield.co.uk/index.php/event/sunday-morning-worship-2/
END:VEVENT
BEGIN:VEVENT
DTSTART;TZID=Europe/London:20260104T103000
DTEND;TZID=Europe/London:20260104T120000
DTSTAMP:20260422T010023
CREATED:20251108T131748Z
LAST-MODIFIED:20251108T131748Z
UID:35727-1767522600-1767528000@newhopedriffield.co.uk
SUMMARY:Sunday Morning Worship
DESCRIPTION:
URL:https://newhopedriffield.co.uk/index.php/event/sunday-morning-worship/
END:VEVENT
BEGIN:VEVENT
DTSTART;TZID=Europe/London:20251221T163000
DTEND;TZID=Europe/London:20251221T173000
DTSTAMP:20260422T010023
CREATED:20251108T125609Z
LAST-MODIFIED:20251108T125609Z
UID:35704-1766334600-1766338200@newhopedriffield.co.uk
SUMMARY:Christmas Carols by Candlelight
DESCRIPTION:
URL:https://newhopedriffield.co.uk/index.php/event/christmas-carols-by-candlelight/
LOCATION:New Hope Church\, 35a Wansford Road\, Driffield\, YO25 5NB
END:VEVENT
BEGIN:VEVENT
DTSTART;TZID=Europe/London:20251216T190000
DTEND;TZID=Europe/London:20251216T213000
DTSTAMP:20260422T010023
CREATED:20251108T132923Z
LAST-MODIFIED:20251108T133803Z
UID:35735-1765911600-1765920600@newhopedriffield.co.uk
SUMMARY:Pastor Derrick's 70th Celebration!
DESCRIPTION:Entertainment: Comedian – Mark Greenwood \nby Special Invitation
URL:https://newhopedriffield.co.uk/index.php/event/pastor-derricks-70th-celebration/
LOCATION:Community Centre –\, Driffield Community Centre\, Mill Street\,\, Driffield.\, YO25 6TR
END:VEVENT
BEGIN:VEVENT
DTSTART;TZID=Europe/London:20251214T103000
DTEND;TZID=Europe/London:20251214T120000
DTSTAMP:20260422T010023
CREATED:20251108T130503Z
LAST-MODIFIED:20251108T130503Z
UID:35718-1765708200-1765713600@newhopedriffield.co.uk
SUMMARY:Sunday Worship Service
DESCRIPTION:
URL:https://newhopedriffield.co.uk/index.php/event/sunday-worship-service-16/
LOCATION:Community Centre –\, Driffield Community Centre\, Mill Street\,\, Driffield.\, YO25 6TR
END:VEVENT
BEGIN:VEVENT
DTSTART;TZID=Europe/London:20251207T103000
DTEND;TZID=Europe/London:20251207T120000
DTSTAMP:20260422T010023
CREATED:20251108T130441Z
LAST-MODIFIED:20251108T130441Z
UID:35716-1765103400-1765108800@newhopedriffield.co.uk
SUMMARY:Sunday Worship Service
DESCRIPTION:
URL:https://newhopedriffield.co.uk/index.php/event/sunday-worship-service-15/
LOCATION:Community Centre –\, Driffield Community Centre\, Mill Street\,\, Driffield.\, YO25 6TR
END:VEVENT
BEGIN:VEVENT
DTSTART;TZID=Europe/London:20251130T183000
DTEND;TZID=Europe/London:20251130T203000
DTSTAMP:20260422T010023
CREATED:20251108T133647Z
LAST-MODIFIED:20251108T134041Z
UID:35723-1764527400-1764534600@newhopedriffield.co.uk
SUMMARY:Food 4 Thought
DESCRIPTION:Young Men – Calling Other Young Men!!
URL:https://newhopedriffield.co.uk/index.php/event/food-4-thought/
LOCATION:Community Centre –\, Driffield Community Centre\, Mill Street\,\, Driffield.\, YO25 6TR
END:VEVENT
BEGIN:VEVENT
DTSTART;TZID=Europe/London:20251130T103000
DTEND;TZID=Europe/London:20251130T120000
DTSTAMP:20260422T010023
CREATED:20251108T130328Z
LAST-MODIFIED:20251108T130328Z
UID:35714-1764498600-1764504000@newhopedriffield.co.uk
SUMMARY:Sunday Worship Service
DESCRIPTION:
URL:https://newhopedriffield.co.uk/index.php/event/sunday-worship-service-14/
LOCATION:Community Centre –\, Driffield Community Centre\, Mill Street\,\, Driffield.\, YO25 6TR
END:VEVENT
BEGIN:VEVENT
DTSTART;TZID=Europe/London:20251123T103000
DTEND;TZID=Europe/London:20251123T120000
DTSTAMP:20260422T010023
CREATED:20251108T130259Z
LAST-MODIFIED:20251108T130259Z
UID:35711-1763893800-1763899200@newhopedriffield.co.uk
SUMMARY:Sunday Worship Service
DESCRIPTION:
URL:https://newhopedriffield.co.uk/index.php/event/sunday-worship-service-13/
LOCATION:Community Centre –\, Driffield Community Centre\, Mill Street\,\, Driffield.\, YO25 6TR
END:VEVENT
BEGIN:VEVENT
DTSTART;TZID=Europe/London:20251116T103000
DTEND;TZID=Europe/London:20251116T120000
DTSTAMP:20260422T010023
CREATED:20251108T130237Z
LAST-MODIFIED:20251108T130237Z
UID:35709-1763289000-1763294400@newhopedriffield.co.uk
SUMMARY:Sunday Worship Service
DESCRIPTION:
URL:https://newhopedriffield.co.uk/index.php/event/sunday-worship-service-12/
LOCATION:Community Centre –\, Driffield Community Centre\, Mill Street\,\, Driffield.\, YO25 6TR
END:VEVENT
BEGIN:VEVENT
DTSTART;TZID=Europe/London:20251109T103000
DTEND;TZID=Europe/London:20251109T120000
DTSTAMP:20260422T010023
CREATED:20251108T125931Z
LAST-MODIFIED:20251108T125931Z
UID:35706-1762684200-1762689600@newhopedriffield.co.uk
SUMMARY:Sunday Worship Service
DESCRIPTION:
URL:https://newhopedriffield.co.uk/index.php/event/sunday-worship-service-11/
LOCATION:Community Centre –\, Driffield Community Centre\, Mill Street\,\, Driffield.\, YO25 6TR
END:VEVENT
BEGIN:VEVENT
DTSTART;TZID=Europe/London:20241111T100000
DTEND;TZID=Europe/London:20241111T120000
DTSTAMP:20260422T010023
CREATED:20240909T212745Z
LAST-MODIFIED:20240909T212745Z
UID:35561-1731319200-1731326400@newhopedriffield.co.uk
SUMMARY:Cap Life Skills Course
DESCRIPTION:
URL:https://newhopedriffield.co.uk/index.php/event/cap-life-skills-course-13/
LOCATION:New Hope Church\, 35a Wansford Road\, Driffield\, YO25 5NB
END:VEVENT
BEGIN:VEVENT
DTSTART;TZID=Europe/London:20241110T103000
DTEND;TZID=Europe/London:20241110T120000
DTSTAMP:20260422T010023
CREATED:20240928T194217Z
LAST-MODIFIED:20241021T175013Z
UID:35596-1731234600-1731240000@newhopedriffield.co.uk
SUMMARY:Sunday Worship Service
DESCRIPTION:Guest Speaker: John Waller
URL:https://newhopedriffield.co.uk/index.php/event/sunday-worship-service-5/
LOCATION:Community Centre –\, Driffield Community Centre\, Mill Street\,\, Driffield.\, YO25 6TR
END:VEVENT
BEGIN:VEVENT
DTSTART;TZID=Europe/London:20241104T100000
DTEND;TZID=Europe/London:20241104T120000
DTSTAMP:20260422T010023
CREATED:20240909T201944Z
LAST-MODIFIED:20240909T205210Z
UID:35546-1730714400-1730721600@newhopedriffield.co.uk
SUMMARY:CAP Life Skills Course
DESCRIPTION:
URL:https://newhopedriffield.co.uk/index.php/event/cap-life-skills-course-10/
LOCATION:New Hope Church\, 35a Wansford Road\, Driffield\, YO25 5NB
END:VEVENT
BEGIN:VEVENT
DTSTART;TZID=Europe/London:20241103T103000
DTEND;TZID=Europe/London:20241103T120000
DTSTAMP:20260422T010023
CREATED:20240928T193918Z
LAST-MODIFIED:20241021T174705Z
UID:35592-1730629800-1730635200@newhopedriffield.co.uk
SUMMARY:Sunday Worship Service
DESCRIPTION:Guest Speaker: John Stanier
URL:https://newhopedriffield.co.uk/index.php/event/sunday-worship-service-4/
LOCATION:Community Centre –\, Driffield Community Centre\, Mill Street\,\, Driffield.\, YO25 6TR
END:VEVENT
BEGIN:VEVENT
DTSTART;TZID=Europe/London:20241028T100000
DTEND;TZID=Europe/London:20241028T120000
DTSTAMP:20260422T010023
CREATED:20240909T203044Z
LAST-MODIFIED:20240909T212541Z
UID:35543-1730109600-1730116800@newhopedriffield.co.uk
SUMMARY:CAP Life Skills Course
DESCRIPTION:
URL:https://newhopedriffield.co.uk/index.php/event/cap-life-skills-course-1000-1200noon/
LOCATION:New Hope Church\, 35a Wansford Road\, Driffield\, YO25 5NB
END:VEVENT
BEGIN:VEVENT
DTSTART;TZID=Europe/London:20241027T103000
DTEND;TZID=Europe/London:20241027T120000
DTSTAMP:20260422T010023
CREATED:20240928T131914Z
LAST-MODIFIED:20240928T131914Z
UID:35588-1730025000-1730030400@newhopedriffield.co.uk
SUMMARY:Sunday Worship Service
DESCRIPTION:Speaker: Christian Gale
URL:https://newhopedriffield.co.uk/index.php/event/sunday-worship-service-2/
LOCATION:Community Centre –\, Driffield Community Centre\, Mill Street\,\, Driffield.\, YO25 6TR
END:VEVENT
BEGIN:VEVENT
DTSTART;TZID=Europe/London:20241021T100000
DTEND;TZID=Europe/London:20241021T120000
DTSTAMP:20260422T010023
CREATED:20240909T202746Z
LAST-MODIFIED:20240909T213115Z
UID:35552-1729504800-1729512000@newhopedriffield.co.uk
SUMMARY:CAP Life Skills Course
DESCRIPTION:
URL:https://newhopedriffield.co.uk/index.php/event/cap-life-skills-course-12/
LOCATION:New Hope Church\, 35a Wansford Road\, Driffield\, YO25 5NB
END:VEVENT
BEGIN:VEVENT
DTSTART;TZID=Europe/London:20241020T103000
DTEND;TZID=Europe/London:20241020T120000
DTSTAMP:20260422T010023
CREATED:20240928T131514Z
LAST-MODIFIED:20240928T131514Z
UID:35585-1729420200-1729425600@newhopedriffield.co.uk
SUMMARY:Sunday Worship Service
DESCRIPTION:Speaker: Robin Essex
URL:https://newhopedriffield.co.uk/index.php/event/sunday-worship-service/
LOCATION:Community Centre –\, Driffield Community Centre\, Mill Street\,\, Driffield.\, YO25 6TR
END:VEVENT
BEGIN:VEVENT
DTSTART;TZID=Europe/London:20241014T100000
DTEND;TZID=Europe/London:20241014T120000
DTSTAMP:20260422T010023
CREATED:20240909T202549Z
LAST-MODIFIED:20240909T202549Z
UID:35549-1728900000-1728907200@newhopedriffield.co.uk
SUMMARY:CAP Life Skills Course
DESCRIPTION:
URL:https://newhopedriffield.co.uk/index.php/event/cap-life-skills-course-11/
LOCATION:New Hope Church\, 35a Wansford Road\, Driffield\, YO25 5NB
ORGANIZER;CN="Irene & Ruth":MAILTO:newhopechurch00@gmail.com
END:VEVENT
BEGIN:VEVENT
DTSTART;TZID=Europe/London:20241013T103000
DTEND;TZID=Europe/London:20241013T120000
DTSTAMP:20260422T010023
CREATED:20240928T130005Z
LAST-MODIFIED:20240928T131146Z
UID:35575-1728815400-1728820800@newhopedriffield.co.uk
SUMMARY:Sunday Worship Service
DESCRIPTION:Speaker: Jonathan Anderson
URL:https://newhopedriffield.co.uk/index.php/event/worship-service-communion/
LOCATION:Community Centre –\, Driffield Community Centre\, Mill Street\,\, Driffield.\, YO25 6TR
END:VEVENT
BEGIN:VEVENT
DTSTART;TZID=Europe/London:20241007T100000
DTEND;TZID=Europe/London:20241007T120000
DTSTAMP:20260422T010023
CREATED:20240909T212950Z
LAST-MODIFIED:20240909T212950Z
UID:35558-1728295200-1728302400@newhopedriffield.co.uk
SUMMARY:CAP Life Skills Course
DESCRIPTION:
URL:https://newhopedriffield.co.uk/index.php/event/cap-life-skills-course-14/
LOCATION:New Hope Church\, 35a Wansford Road\, Driffield\, YO25 5NB
END:VEVENT
BEGIN:VEVENT
DTSTART;TZID=Europe/London:20241006T103000
DTEND;TZID=Europe/London:20241006T120000
DTSTAMP:20260422T010023
CREATED:20240928T191101Z
LAST-MODIFIED:20240928T193157Z
UID:35590-1728210600-1728216000@newhopedriffield.co.uk
SUMMARY:Sunday Worship Service
DESCRIPTION:Guest Speaker: John Waller
URL:https://newhopedriffield.co.uk/index.php/event/sunday-worship-service-3/
LOCATION:Community Centre –\, Driffield Community Centre\, Mill Street\,\, Driffield.\, YO25 6TR
END:VEVENT
BEGIN:VEVENT
DTSTART;TZID=Europe/London:20240929T103000
DTEND;TZID=Europe/London:20240929T123000
DTSTAMP:20260422T010023
CREATED:20240707T152427Z
LAST-MODIFIED:20240707T152427Z
UID:35456-1727605800-1727613000@newhopedriffield.co.uk
SUMMARY:Worship & Communion
DESCRIPTION:
URL:https://newhopedriffield.co.uk/index.php/event/worship-communion-63/
LOCATION:Community Centre –\, Driffield Community Centre\, Mill Street\,\, Driffield.\, YO25 6TR
CATEGORIES:Sunday Morning Worship & Communion
ORGANIZER;CN="Pastor Rob Case":MAILTO:newhopechurch00@gmail.com
END:VEVENT
BEGIN:VEVENT
DTSTART;TZID=Europe/London:20240928T183000
DTEND;TZID=Europe/London:20240928T200000
DTSTAMP:20260422T010023
CREATED:20240707T152506Z
LAST-MODIFIED:20240707T152506Z
UID:35458-1727548200-1727553600@newhopedriffield.co.uk
SUMMARY:Simply Kingdom - inter church worship event.
DESCRIPTION:
URL:https://newhopedriffield.co.uk/index.php/event/simply-kingdom-inter-church-worship-event-5/
END:VEVENT
BEGIN:VEVENT
DTSTART;TZID=Europe/London:20240926T130000
DTEND;TZID=Europe/London:20240926T160000
DTSTAMP:20260422T010023
CREATED:20240707T153233Z
LAST-MODIFIED:20240707T153233Z
UID:35482-1727355600-1727366400@newhopedriffield.co.uk
SUMMARY:Driffield Scrabblers - community group
DESCRIPTION:
URL:https://newhopedriffield.co.uk/index.php/event/driffield-scrabblers-community-group-46/
LOCATION:New Hope Church\, 35a Wansford Road\, Driffield\, YO25 5NB
CATEGORIES:Community Groups
END:VEVENT
BEGIN:VEVENT
DTSTART;TZID=Europe/London:20240926T091500
DTEND;TZID=Europe/London:20240926T111500
DTSTAMP:20260422T010023
CREATED:20240707T152006Z
LAST-MODIFIED:20240707T152006Z
UID:35430-1727342100-1727349300@newhopedriffield.co.uk
SUMMARY:Twinkling Stars
DESCRIPTION:
URL:https://newhopedriffield.co.uk/index.php/event/twinkling-stars-137/
LOCATION:New Hope Church\, 35a Wansford Road\, Driffield\, YO25 5NB
CATEGORIES:Children's Ministry
ORGANIZER;CN="Pastor Rob Case":MAILTO:newhopechurch00@gmail.com
END:VEVENT
BEGIN:VEVENT
DTSTART;TZID=Europe/London:20240925T190000
DTEND;TZID=Europe/London:20240925T200000
DTSTAMP:20260422T010023
CREATED:20240707T152134Z
LAST-MODIFIED:20240707T152134Z
UID:35438-1727290800-1727294400@newhopedriffield.co.uk
SUMMARY:Prayer & Praise
DESCRIPTION:
URL:https://newhopedriffield.co.uk/index.php/event/prayer-praise-58/
LOCATION:New Hope Church\, 35a Wansford Road\, Driffield\, YO25 5NB
CATEGORIES:Prayer Meeting
ORGANIZER;CN="Pastor Rob Case":MAILTO:newhopechurch00@gmail.com
END:VEVENT
END:VCALENDAR