BEGIN:VCALENDAR
VERSION:2.0
PRODID:-//New Hope Driffield - ECPv6.15.14//NONSGML v1.0//EN
CALSCALE:GREGORIAN
METHOD:PUBLISH
X-ORIGINAL-URL:https://newhopedriffield.co.uk
X-WR-CALDESC:Events for New Hope Driffield
REFRESH-INTERVAL;VALUE=DURATION:PT1H
X-Robots-Tag:noindex
X-PUBLISHED-TTL:PT1H
BEGIN:VTIMEZONE
TZID:Europe/London
BEGIN:DAYLIGHT
TZOFFSETFROM:+0000
TZOFFSETTO:+0100
TZNAME:BST
DTSTART:20220327T010000
END:DAYLIGHT
BEGIN:STANDARD
TZOFFSETFROM:+0100
TZOFFSETTO:+0000
TZNAME:GMT
DTSTART:20221030T010000
END:STANDARD
BEGIN:DAYLIGHT
TZOFFSETFROM:+0000
TZOFFSETTO:+0100
TZNAME:BST
DTSTART:20230326T010000
END:DAYLIGHT
BEGIN:STANDARD
TZOFFSETFROM:+0100
TZOFFSETTO:+0000
TZNAME:GMT
DTSTART:20231029T010000
END:STANDARD
BEGIN:DAYLIGHT
TZOFFSETFROM:+0000
TZOFFSETTO:+0100
TZNAME:BST
DTSTART:20240331T010000
END:DAYLIGHT
BEGIN:STANDARD
TZOFFSETFROM:+0100
TZOFFSETTO:+0000
TZNAME:GMT
DTSTART:20241027T010000
END:STANDARD
BEGIN:DAYLIGHT
TZOFFSETFROM:+0000
TZOFFSETTO:+0100
TZNAME:BST
DTSTART:20250330T010000
END:DAYLIGHT
BEGIN:STANDARD
TZOFFSETFROM:+0100
TZOFFSETTO:+0000
TZNAME:GMT
DTSTART:20251026T010000
END:STANDARD
END:VTIMEZONE
BEGIN:VEVENT
DTSTART;TZID=Europe/London:20240811T183000
DTEND;TZID=Europe/London:20240811T200000
DTSTAMP:20260422T042456
CREATED:20240526T150508Z
LAST-MODIFIED:20240526T150508Z
UID:35379-1723401000-1723406400@newhopedriffield.co.uk
SUMMARY:Facetime - worship event.
DESCRIPTION:
URL:https://newhopedriffield.co.uk/index.php/event/facetime-worship-event-8/
LOCATION:New Hope Church\, 35a Wansford Road\, Driffield\, YO25 5NB
CATEGORIES:Worship Event
ORGANIZER;CN="Pastor Rob Case":MAILTO:newhopechurch00@gmail.com
END:VEVENT
BEGIN:VEVENT
DTSTART;TZID=Europe/London:20240714T183000
DTEND;TZID=Europe/London:20240714T200000
DTSTAMP:20260422T042456
CREATED:20240526T150448Z
LAST-MODIFIED:20240526T150448Z
UID:35377-1720981800-1720987200@newhopedriffield.co.uk
SUMMARY:Facetime - worship event.
DESCRIPTION:
URL:https://newhopedriffield.co.uk/index.php/event/facetime-worship-event-7/
LOCATION:New Hope Church\, 35a Wansford Road\, Driffield\, YO25 5NB
CATEGORIES:Worship Event
ORGANIZER;CN="Pastor Rob Case":MAILTO:newhopechurch00@gmail.com
END:VEVENT
BEGIN:VEVENT
DTSTART;TZID=Europe/London:20240414T183000
DTEND;TZID=Europe/London:20240414T200000
DTSTAMP:20260422T042456
CREATED:20240226T133837Z
LAST-MODIFIED:20240226T133837Z
UID:35140-1713119400-1713124800@newhopedriffield.co.uk
SUMMARY:Facetime - worship event.
DESCRIPTION:
URL:https://newhopedriffield.co.uk/index.php/event/facetime-worship-event-6/
LOCATION:New Hope Church\, 35a Wansford Road\, Driffield\, YO25 5NB
CATEGORIES:Worship Event
ORGANIZER;CN="Pastor Rob Case":MAILTO:newhopechurch00@gmail.com
END:VEVENT
BEGIN:VEVENT
DTSTART;TZID=Europe/London:20240310T183000
DTEND;TZID=Europe/London:20240310T200000
DTSTAMP:20260422T042456
CREATED:20240121T164437Z
LAST-MODIFIED:20240121T164437Z
UID:34941-1710095400-1710100800@newhopedriffield.co.uk
SUMMARY:Facetime - worship event
DESCRIPTION:
URL:https://newhopedriffield.co.uk/index.php/event/facetime-worship-event-5/
LOCATION:New Hope Church\, 35a Wansford Road\, Driffield\, YO25 5NB
CATEGORIES:Worship Event
ORGANIZER;CN="Pastor Rob Case":MAILTO:newhopechurch00@gmail.com
END:VEVENT
BEGIN:VEVENT
DTSTART;TZID=Europe/London:20240211T183000
DTEND;TZID=Europe/London:20240211T200000
DTSTAMP:20260422T042456
CREATED:20240121T164421Z
LAST-MODIFIED:20240121T164421Z
UID:34939-1707676200-1707681600@newhopedriffield.co.uk
SUMMARY:Facetime - worship event
DESCRIPTION:
URL:https://newhopedriffield.co.uk/index.php/event/facetime-worship-event-3/
LOCATION:New Hope Church\, 35a Wansford Road\, Driffield\, YO25 5NB
CATEGORIES:Worship Event
ORGANIZER;CN="Pastor Rob Case":MAILTO:newhopechurch00@gmail.com
END:VEVENT
BEGIN:VEVENT
DTSTART;TZID=Europe/London:20240114T183000
DTEND;TZID=Europe/London:20240114T200000
DTSTAMP:20260422T042456
CREATED:20231119T134859Z
LAST-MODIFIED:20231119T134859Z
UID:34698-1705257000-1705262400@newhopedriffield.co.uk
SUMMARY:Facetime - worship event
DESCRIPTION:
URL:https://newhopedriffield.co.uk/index.php/event/facetime-worship-event-4/
LOCATION:New Hope Church\, 35a Wansford Road\, Driffield\, YO25 5NB
CATEGORIES:Worship Event
ORGANIZER;CN="Pastor Rob Case":MAILTO:newhopechurch00@gmail.com
END:VEVENT
BEGIN:VEVENT
DTSTART;TZID=Europe/London:20231112T180000
DTEND;TZID=Europe/London:20231112T200000
DTSTAMP:20260422T042456
CREATED:20230920T122258Z
LAST-MODIFIED:20230920T122258Z
UID:34538-1699812000-1699819200@newhopedriffield.co.uk
SUMMARY:Facetime - Worship Event
DESCRIPTION:
URL:https://newhopedriffield.co.uk/index.php/event/facetime-worship-event-2/
LOCATION:New Hope Church\, 35a Wansford Road\, Driffield\, YO25 5NB
CATEGORIES:Worship Event
ORGANIZER;CN="Pastor Rob Case":MAILTO:newhopechurch00@gmail.com
END:VEVENT
BEGIN:VEVENT
DTSTART;TZID=Europe/London:20231008T180000
DTEND;TZID=Europe/London:20231008T200000
DTSTAMP:20260422T042456
CREATED:20230920T122238Z
LAST-MODIFIED:20230920T122238Z
UID:34536-1696788000-1696795200@newhopedriffield.co.uk
SUMMARY:Facetime - Worship Event
DESCRIPTION:
URL:https://newhopedriffield.co.uk/index.php/event/facetime-worship-event/
LOCATION:New Hope Church\, 35a Wansford Road\, Driffield\, YO25 5NB
CATEGORIES:Worship Event
ORGANIZER;CN="Pastor Rob Case":MAILTO:newhopechurch00@gmail.com
END:VEVENT
END:VCALENDAR