BEGIN:VCALENDAR
VERSION:2.0
PRODID:-//New Hope Driffield - ECPv6.15.14//NONSGML v1.0//EN
CALSCALE:GREGORIAN
METHOD:PUBLISH
X-WR-CALNAME:New Hope Driffield
X-ORIGINAL-URL:https://newhopedriffield.co.uk
X-WR-CALDESC:Events for New Hope Driffield
REFRESH-INTERVAL;VALUE=DURATION:PT1H
X-Robots-Tag:noindex
X-PUBLISHED-TTL:PT1H
BEGIN:VTIMEZONE
TZID:Europe/London
BEGIN:DAYLIGHT
TZOFFSETFROM:+0000
TZOFFSETTO:+0100
TZNAME:BST
DTSTART:20230326T010000
END:DAYLIGHT
BEGIN:STANDARD
TZOFFSETFROM:+0100
TZOFFSETTO:+0000
TZNAME:GMT
DTSTART:20231029T010000
END:STANDARD
BEGIN:DAYLIGHT
TZOFFSETFROM:+0000
TZOFFSETTO:+0100
TZNAME:BST
DTSTART:20240331T010000
END:DAYLIGHT
BEGIN:STANDARD
TZOFFSETFROM:+0100
TZOFFSETTO:+0000
TZNAME:GMT
DTSTART:20241027T010000
END:STANDARD
BEGIN:DAYLIGHT
TZOFFSETFROM:+0000
TZOFFSETTO:+0100
TZNAME:BST
DTSTART:20250330T010000
END:DAYLIGHT
BEGIN:STANDARD
TZOFFSETFROM:+0100
TZOFFSETTO:+0000
TZNAME:GMT
DTSTART:20251026T010000
END:STANDARD
END:VTIMEZONE
BEGIN:VEVENT
DTSTART;TZID=Europe/London:20240926T130000
DTEND;TZID=Europe/London:20240926T160000
DTSTAMP:20260422T010106
CREATED:20240707T153233Z
LAST-MODIFIED:20240707T153233Z
UID:35482-1727355600-1727366400@newhopedriffield.co.uk
SUMMARY:Driffield Scrabblers - community group
DESCRIPTION:
URL:https://newhopedriffield.co.uk/index.php/event/driffield-scrabblers-community-group-46/
LOCATION:New Hope Church\, 35a Wansford Road\, Driffield\, YO25 5NB
CATEGORIES:Community Groups
END:VEVENT
BEGIN:VEVENT
DTSTART;VALUE=DATE:20240925
DTEND;VALUE=DATE:20240926
DTSTAMP:20260422T010106
CREATED:20240707T152727Z
LAST-MODIFIED:20240707T152727Z
UID:35468-1727222400-1727308799@newhopedriffield.co.uk
SUMMARY:Silver Quilters - Community Group
DESCRIPTION:
URL:https://newhopedriffield.co.uk/index.php/event/silver-quilters-community-group-43/
LOCATION:New Hope Church\, 35a Wansford Road\, Driffield\, YO25 5NB
CATEGORIES:Community Groups
ORGANIZER;CN="Pastor Rob Case":MAILTO:newhopechurch00@gmail.com
END:VEVENT
BEGIN:VEVENT
DTSTART;TZID=Europe/London:20240919T130000
DTEND;TZID=Europe/London:20240919T160000
DTSTAMP:20260422T010106
CREATED:20240707T153217Z
LAST-MODIFIED:20240707T153217Z
UID:35480-1726750800-1726761600@newhopedriffield.co.uk
SUMMARY:Driffield Scrabblers - community group
DESCRIPTION:
URL:https://newhopedriffield.co.uk/index.php/event/driffield-scrabblers-community-group-45/
LOCATION:New Hope Church\, 35a Wansford Road\, Driffield\, YO25 5NB
CATEGORIES:Community Groups
END:VEVENT
BEGIN:VEVENT
DTSTART;VALUE=DATE:20240918
DTEND;VALUE=DATE:20240919
DTSTAMP:20260422T010106
CREATED:20240707T152712Z
LAST-MODIFIED:20240707T152712Z
UID:35466-1726617600-1726703999@newhopedriffield.co.uk
SUMMARY:Silver Quilters - Community Group
DESCRIPTION:
URL:https://newhopedriffield.co.uk/index.php/event/silver-quilters-community-group-42/
LOCATION:New Hope Church\, 35a Wansford Road\, Driffield\, YO25 5NB
CATEGORIES:Community Groups
ORGANIZER;CN="Pastor Rob Case":MAILTO:newhopechurch00@gmail.com
END:VEVENT
BEGIN:VEVENT
DTSTART;TZID=Europe/London:20240912T130000
DTEND;TZID=Europe/London:20240912T160000
DTSTAMP:20260422T010106
CREATED:20240707T153205Z
LAST-MODIFIED:20240707T153205Z
UID:35478-1726146000-1726156800@newhopedriffield.co.uk
SUMMARY:Driffield Scrabblers - community group
DESCRIPTION:
URL:https://newhopedriffield.co.uk/index.php/event/driffield-scrabblers-community-group-44/
LOCATION:New Hope Church\, 35a Wansford Road\, Driffield\, YO25 5NB
CATEGORIES:Community Groups
END:VEVENT
BEGIN:VEVENT
DTSTART;VALUE=DATE:20240911
DTEND;VALUE=DATE:20240912
DTSTAMP:20260422T010106
CREATED:20240707T152655Z
LAST-MODIFIED:20240707T152655Z
UID:35464-1726012800-1726099199@newhopedriffield.co.uk
SUMMARY:Silver Quilters - Community Group
DESCRIPTION:
URL:https://newhopedriffield.co.uk/index.php/event/silver-quilters-community-group-41/
LOCATION:New Hope Church\, 35a Wansford Road\, Driffield\, YO25 5NB
CATEGORIES:Community Groups
ORGANIZER;CN="Pastor Rob Case":MAILTO:newhopechurch00@gmail.com
END:VEVENT
BEGIN:VEVENT
DTSTART;TZID=Europe/London:20240905T130000
DTEND;TZID=Europe/London:20240905T160000
DTSTAMP:20260422T010106
CREATED:20240707T153152Z
LAST-MODIFIED:20240707T153152Z
UID:35476-1725541200-1725552000@newhopedriffield.co.uk
SUMMARY:Driffield Scrabblers - community group
DESCRIPTION:
URL:https://newhopedriffield.co.uk/index.php/event/driffield-scrabblers-community-group-43/
LOCATION:New Hope Church\, 35a Wansford Road\, Driffield\, YO25 5NB
CATEGORIES:Community Groups
END:VEVENT
BEGIN:VEVENT
DTSTART;VALUE=DATE:20240904
DTEND;VALUE=DATE:20240905
DTSTAMP:20260422T010106
CREATED:20240707T152638Z
LAST-MODIFIED:20240707T152638Z
UID:35462-1725408000-1725494399@newhopedriffield.co.uk
SUMMARY:Silver Quilters - Community Group
DESCRIPTION:
URL:https://newhopedriffield.co.uk/index.php/event/silver-quilters-community-group-40/
LOCATION:New Hope Church\, 35a Wansford Road\, Driffield\, YO25 5NB
CATEGORIES:Community Groups
ORGANIZER;CN="Pastor Rob Case":MAILTO:newhopechurch00@gmail.com
END:VEVENT
BEGIN:VEVENT
DTSTART;VALUE=DATE:20240731
DTEND;VALUE=DATE:20240801
DTSTAMP:20260422T010106
CREATED:20240526T143606Z
LAST-MODIFIED:20240526T143606Z
UID:35275-1722384000-1722470399@newhopedriffield.co.uk
SUMMARY:Silver Quilters - Community Group
DESCRIPTION:
URL:https://newhopedriffield.co.uk/index.php/event/silver-quilters-community-group-38/
LOCATION:New Hope Church\, 35a Wansford Road\, Driffield\, YO25 5NB
CATEGORIES:Community Groups
ORGANIZER;CN="Pastor Rob Case":MAILTO:newhopechurch00@gmail.com
END:VEVENT
BEGIN:VEVENT
DTSTART;VALUE=DATE:20240724
DTEND;VALUE=DATE:20240725
DTSTAMP:20260422T010106
CREATED:20240526T143535Z
LAST-MODIFIED:20240526T143549Z
UID:35273-1721779200-1721865599@newhopedriffield.co.uk
SUMMARY:Silver Quilters - Community Group
DESCRIPTION:
URL:https://newhopedriffield.co.uk/index.php/event/silver-quilters-community-group-37/
LOCATION:New Hope Church\, 35a Wansford Road\, Driffield\, YO25 5NB
CATEGORIES:Community Groups
ORGANIZER;CN="Pastor Rob Case":MAILTO:newhopechurch00@gmail.com
END:VEVENT
BEGIN:VEVENT
DTSTART;VALUE=DATE:20240717
DTEND;VALUE=DATE:20240718
DTSTAMP:20260422T010106
CREATED:20240526T143650Z
LAST-MODIFIED:20240526T143650Z
UID:35277-1721174400-1721260799@newhopedriffield.co.uk
SUMMARY:Silver Quilters - Community Group
DESCRIPTION:
URL:https://newhopedriffield.co.uk/index.php/event/silver-quilters-community-group-39/
LOCATION:New Hope Church\, 35a Wansford Road\, Driffield\, YO25 5NB
CATEGORIES:Community Groups
ORGANIZER;CN="Pastor Rob Case":MAILTO:newhopechurch00@gmail.com
END:VEVENT
BEGIN:VEVENT
DTSTART;VALUE=DATE:20240710
DTEND;VALUE=DATE:20240711
DTSTAMP:20260422T010106
CREATED:20240526T143517Z
LAST-MODIFIED:20240526T143517Z
UID:35271-1720569600-1720655999@newhopedriffield.co.uk
SUMMARY:Silver Quilters - Community Group
DESCRIPTION:
URL:https://newhopedriffield.co.uk/index.php/event/silver-quilters-community-group-36/
LOCATION:New Hope Church\, 35a Wansford Road\, Driffield\, YO25 5NB
CATEGORIES:Community Groups
ORGANIZER;CN="Pastor Rob Case":MAILTO:newhopechurch00@gmail.com
END:VEVENT
BEGIN:VEVENT
DTSTART;TZID=Europe/London:20240704T130000
DTEND;TZID=Europe/London:20240704T160000
DTSTAMP:20260422T010106
CREATED:20240526T143814Z
LAST-MODIFIED:20240526T143814Z
UID:35279-1720098000-1720108800@newhopedriffield.co.uk
SUMMARY:Driffield Scrabblers - community group
DESCRIPTION:
URL:https://newhopedriffield.co.uk/index.php/event/driffield-scrabblers-community-group-40/
LOCATION:New Hope Church\, 35a Wansford Road\, Driffield\, YO25 5NB
CATEGORIES:Community Groups
END:VEVENT
BEGIN:VEVENT
DTSTART;VALUE=DATE:20240703
DTEND;VALUE=DATE:20240704
DTSTAMP:20260422T010106
CREATED:20240526T143458Z
LAST-MODIFIED:20240526T143458Z
UID:35269-1719964800-1720051199@newhopedriffield.co.uk
SUMMARY:Silver Quilters - Community Group
DESCRIPTION:
URL:https://newhopedriffield.co.uk/index.php/event/silver-quilters-community-group-35/
LOCATION:New Hope Church\, 35a Wansford Road\, Driffield\, YO25 5NB
CATEGORIES:Community Groups
ORGANIZER;CN="Pastor Rob Case":MAILTO:newhopechurch00@gmail.com
END:VEVENT
BEGIN:VEVENT
DTSTART;TZID=Europe/London:20240627T130000
DTEND;TZID=Europe/London:20240627T160000
DTSTAMP:20260422T010106
CREATED:20240428T133511Z
LAST-MODIFIED:20240428T133511Z
UID:35247-1719493200-1719504000@newhopedriffield.co.uk
SUMMARY:Driffield Scrabblers - community group
DESCRIPTION:
URL:https://newhopedriffield.co.uk/index.php/event/driffield-scrabblers-community-group-39/
LOCATION:New Hope Church\, 35a Wansford Road\, Driffield\, YO25 5NB
CATEGORIES:Community Groups
END:VEVENT
BEGIN:VEVENT
DTSTART;VALUE=DATE:20240626
DTEND;VALUE=DATE:20240627
DTSTAMP:20260422T010106
CREATED:20240428T133116Z
LAST-MODIFIED:20240428T133116Z
UID:35234-1719360000-1719446399@newhopedriffield.co.uk
SUMMARY:Silver Quilters - Community Group
DESCRIPTION:
URL:https://newhopedriffield.co.uk/index.php/event/silver-quilters-community-group-34/
LOCATION:New Hope Church\, 35a Wansford Road\, Driffield\, YO25 5NB
CATEGORIES:Community Groups
ORGANIZER;CN="Pastor Rob Case":MAILTO:newhopechurch00@gmail.com
END:VEVENT
BEGIN:VEVENT
DTSTART;TZID=Europe/London:20240620T130000
DTEND;TZID=Europe/London:20240620T160000
DTSTAMP:20260422T010106
CREATED:20240428T133454Z
LAST-MODIFIED:20240428T133454Z
UID:35245-1718888400-1718899200@newhopedriffield.co.uk
SUMMARY:Driffield Scrabblers - community group
DESCRIPTION:
URL:https://newhopedriffield.co.uk/index.php/event/driffield-scrabblers-community-group-38/
LOCATION:New Hope Church\, 35a Wansford Road\, Driffield\, YO25 5NB
CATEGORIES:Community Groups
END:VEVENT
BEGIN:VEVENT
DTSTART;VALUE=DATE:20240619
DTEND;VALUE=DATE:20240620
DTSTAMP:20260422T010106
CREATED:20240428T133104Z
LAST-MODIFIED:20240428T133104Z
UID:35232-1718755200-1718841599@newhopedriffield.co.uk
SUMMARY:Silver Quilters - Community Group
DESCRIPTION:
URL:https://newhopedriffield.co.uk/index.php/event/silver-quilters-community-group-33/
LOCATION:New Hope Church\, 35a Wansford Road\, Driffield\, YO25 5NB
CATEGORIES:Community Groups
ORGANIZER;CN="Pastor Rob Case":MAILTO:newhopechurch00@gmail.com
END:VEVENT
BEGIN:VEVENT
DTSTART;TZID=Europe/London:20240613T130000
DTEND;TZID=Europe/London:20240613T160000
DTSTAMP:20260422T010106
CREATED:20240428T133436Z
LAST-MODIFIED:20240428T133436Z
UID:35243-1718283600-1718294400@newhopedriffield.co.uk
SUMMARY:Driffield Scrabblers - community group
DESCRIPTION:
URL:https://newhopedriffield.co.uk/index.php/event/driffield-scrabblers-community-group-37/
LOCATION:New Hope Church\, 35a Wansford Road\, Driffield\, YO25 5NB
CATEGORIES:Community Groups
END:VEVENT
BEGIN:VEVENT
DTSTART;VALUE=DATE:20240612
DTEND;VALUE=DATE:20240613
DTSTAMP:20260422T010106
CREATED:20240428T133049Z
LAST-MODIFIED:20240428T133049Z
UID:35230-1718150400-1718236799@newhopedriffield.co.uk
SUMMARY:Silver Quilters - Community Group
DESCRIPTION:
URL:https://newhopedriffield.co.uk/index.php/event/silver-quilters-community-group-32/
LOCATION:New Hope Church\, 35a Wansford Road\, Driffield\, YO25 5NB
CATEGORIES:Community Groups
ORGANIZER;CN="Pastor Rob Case":MAILTO:newhopechurch00@gmail.com
END:VEVENT
BEGIN:VEVENT
DTSTART;TZID=Europe/London:20240606T130000
DTEND;TZID=Europe/London:20240606T160000
DTSTAMP:20260422T010106
CREATED:20240226T132834Z
LAST-MODIFIED:20240428T133415Z
UID:35094-1717678800-1717689600@newhopedriffield.co.uk
SUMMARY:Driffield Scrabblers - community group
DESCRIPTION:
URL:https://newhopedriffield.co.uk/index.php/event/driffield-scrabblers-community-group-36/
LOCATION:New Hope Church\, 35a Wansford Road\, Driffield\, YO25 5NB
CATEGORIES:Community Groups
END:VEVENT
BEGIN:VEVENT
DTSTART;VALUE=DATE:20240605
DTEND;VALUE=DATE:20240606
DTSTAMP:20260422T010106
CREATED:20240226T132034Z
LAST-MODIFIED:20240428T133033Z
UID:35040-1717545600-1717631999@newhopedriffield.co.uk
SUMMARY:Silver Quilters - Community Group
DESCRIPTION:
URL:https://newhopedriffield.co.uk/index.php/event/silver-quilters-community-group-31/
LOCATION:New Hope Church\, 35a Wansford Road\, Driffield\, YO25 5NB
CATEGORIES:Community Groups
ORGANIZER;CN="Pastor Rob Case":MAILTO:newhopechurch00@gmail.com
END:VEVENT
BEGIN:VEVENT
DTSTART;TZID=Europe/London:20240523T130000
DTEND;TZID=Europe/London:20240523T160000
DTSTAMP:20260422T010106
CREATED:20240226T132820Z
LAST-MODIFIED:20240226T132820Z
UID:35092-1716469200-1716480000@newhopedriffield.co.uk
SUMMARY:Driffield Scrabblers - community group
DESCRIPTION:
URL:https://newhopedriffield.co.uk/index.php/event/driffield-scrabblers-community-group-35/
LOCATION:New Hope Church\, 35a Wansford Road\, Driffield\, YO25 5NB
CATEGORIES:Community Groups
END:VEVENT
BEGIN:VEVENT
DTSTART;VALUE=DATE:20240522
DTEND;VALUE=DATE:20240523
DTSTAMP:20260422T010106
CREATED:20240226T132020Z
LAST-MODIFIED:20240226T132020Z
UID:35038-1716336000-1716422399@newhopedriffield.co.uk
SUMMARY:Silver Quilters - Community Group
DESCRIPTION:
URL:https://newhopedriffield.co.uk/index.php/event/silver-quilters-community-group-30/
LOCATION:New Hope Church\, 35a Wansford Road\, Driffield\, YO25 5NB
CATEGORIES:Community Groups
ORGANIZER;CN="Pastor Rob Case":MAILTO:newhopechurch00@gmail.com
END:VEVENT
BEGIN:VEVENT
DTSTART;TZID=Europe/London:20240516T130000
DTEND;TZID=Europe/London:20240516T160000
DTSTAMP:20260422T010106
CREATED:20240226T132804Z
LAST-MODIFIED:20240226T132804Z
UID:35090-1715864400-1715875200@newhopedriffield.co.uk
SUMMARY:Driffield Scrabblers - community group
DESCRIPTION:
URL:https://newhopedriffield.co.uk/index.php/event/driffield-scrabblers-community-group-34/
LOCATION:New Hope Church\, 35a Wansford Road\, Driffield\, YO25 5NB
CATEGORIES:Community Groups
END:VEVENT
BEGIN:VEVENT
DTSTART;VALUE=DATE:20240515
DTEND;VALUE=DATE:20240516
DTSTAMP:20260422T010106
CREATED:20240226T132003Z
LAST-MODIFIED:20240226T132003Z
UID:35036-1715731200-1715817599@newhopedriffield.co.uk
SUMMARY:Silver Quilters - Community Group
DESCRIPTION:
URL:https://newhopedriffield.co.uk/index.php/event/silver-quilters-community-group-29/
LOCATION:New Hope Church\, 35a Wansford Road\, Driffield\, YO25 5NB
CATEGORIES:Community Groups
ORGANIZER;CN="Pastor Rob Case":MAILTO:newhopechurch00@gmail.com
END:VEVENT
BEGIN:VEVENT
DTSTART;TZID=Europe/London:20240509T130000
DTEND;TZID=Europe/London:20240509T160000
DTSTAMP:20260422T010106
CREATED:20240226T132750Z
LAST-MODIFIED:20240226T132750Z
UID:35088-1715259600-1715270400@newhopedriffield.co.uk
SUMMARY:Driffield Scrabblers - community group
DESCRIPTION:
URL:https://newhopedriffield.co.uk/index.php/event/driffield-scrabblers-community-group-33/
LOCATION:New Hope Church\, 35a Wansford Road\, Driffield\, YO25 5NB
CATEGORIES:Community Groups
END:VEVENT
BEGIN:VEVENT
DTSTART;VALUE=DATE:20240508
DTEND;VALUE=DATE:20240509
DTSTAMP:20260422T010106
CREATED:20240226T131949Z
LAST-MODIFIED:20240226T131949Z
UID:35034-1715126400-1715212799@newhopedriffield.co.uk
SUMMARY:Silver Quilters - Community Group
DESCRIPTION:
URL:https://newhopedriffield.co.uk/index.php/event/silver-quilters-community-group-28/
LOCATION:New Hope Church\, 35a Wansford Road\, Driffield\, YO25 5NB
CATEGORIES:Community Groups
ORGANIZER;CN="Pastor Rob Case":MAILTO:newhopechurch00@gmail.com
END:VEVENT
BEGIN:VEVENT
DTSTART;TZID=Europe/London:20240502T130000
DTEND;TZID=Europe/London:20240502T160000
DTSTAMP:20260422T010106
CREATED:20240226T132734Z
LAST-MODIFIED:20240226T132734Z
UID:35086-1714654800-1714665600@newhopedriffield.co.uk
SUMMARY:Driffield Scrabblers - community group
DESCRIPTION:
URL:https://newhopedriffield.co.uk/index.php/event/driffield-scrabblers-community-group-32/
LOCATION:New Hope Church\, 35a Wansford Road\, Driffield\, YO25 5NB
CATEGORIES:Community Groups
END:VEVENT
BEGIN:VEVENT
DTSTART;VALUE=DATE:20240501
DTEND;VALUE=DATE:20240502
DTSTAMP:20260422T010106
CREATED:20240226T131934Z
LAST-MODIFIED:20240226T131934Z
UID:35032-1714521600-1714607999@newhopedriffield.co.uk
SUMMARY:Silver Quilters - Community Group
DESCRIPTION:
URL:https://newhopedriffield.co.uk/index.php/event/silver-quilters-community-group-27/
LOCATION:New Hope Church\, 35a Wansford Road\, Driffield\, YO25 5NB
CATEGORIES:Community Groups
ORGANIZER;CN="Pastor Rob Case":MAILTO:newhopechurch00@gmail.com
END:VEVENT
END:VCALENDAR