BEGIN:VCALENDAR
VERSION:2.0
PRODID:-//New Hope Driffield - ECPv6.15.14//NONSGML v1.0//EN
CALSCALE:GREGORIAN
METHOD:PUBLISH
X-ORIGINAL-URL:https://newhopedriffield.co.uk
X-WR-CALDESC:Events for New Hope Driffield
REFRESH-INTERVAL;VALUE=DURATION:PT1H
X-Robots-Tag:noindex
X-PUBLISHED-TTL:PT1H
BEGIN:VTIMEZONE
TZID:Europe/London
BEGIN:DAYLIGHT
TZOFFSETFROM:+0000
TZOFFSETTO:+0100
TZNAME:BST
DTSTART:20220327T010000
END:DAYLIGHT
BEGIN:STANDARD
TZOFFSETFROM:+0100
TZOFFSETTO:+0000
TZNAME:GMT
DTSTART:20221030T010000
END:STANDARD
BEGIN:DAYLIGHT
TZOFFSETFROM:+0000
TZOFFSETTO:+0100
TZNAME:BST
DTSTART:20230326T010000
END:DAYLIGHT
BEGIN:STANDARD
TZOFFSETFROM:+0100
TZOFFSETTO:+0000
TZNAME:GMT
DTSTART:20231029T010000
END:STANDARD
BEGIN:DAYLIGHT
TZOFFSETFROM:+0000
TZOFFSETTO:+0100
TZNAME:BST
DTSTART:20240331T010000
END:DAYLIGHT
BEGIN:STANDARD
TZOFFSETFROM:+0100
TZOFFSETTO:+0000
TZNAME:GMT
DTSTART:20241027T010000
END:STANDARD
BEGIN:DAYLIGHT
TZOFFSETFROM:+0000
TZOFFSETTO:+0100
TZNAME:BST
DTSTART:20250330T010000
END:DAYLIGHT
BEGIN:STANDARD
TZOFFSETFROM:+0100
TZOFFSETTO:+0000
TZNAME:GMT
DTSTART:20251026T010000
END:STANDARD
END:VTIMEZONE
BEGIN:VEVENT
DTSTART;TZID=Europe/London:20240505T133000
DTEND;TZID=Europe/London:20240505T163000
DTSTAMP:20260422T120037
CREATED:20240226T133538Z
LAST-MODIFIED:20240226T133538Z
UID:35132-1714915800-1714926600@newhopedriffield.co.uk
SUMMARY:Fellowship meal
DESCRIPTION:
URL:https://newhopedriffield.co.uk/index.php/event/fellowship-meal-16/
LOCATION:New Hope Church\, 35a Wansford Road\, Driffield\, YO25 5NB
CATEGORIES:Church Social Event
ORGANIZER;CN="Pastor Rob Case":MAILTO:newhopechurch00@gmail.com
END:VEVENT
BEGIN:VEVENT
DTSTART;TZID=Europe/London:20240407T133000
DTEND;TZID=Europe/London:20240407T163000
DTSTAMP:20260422T120037
CREATED:20240226T133522Z
LAST-MODIFIED:20240226T133522Z
UID:35130-1712496600-1712507400@newhopedriffield.co.uk
SUMMARY:Fellowship meal
DESCRIPTION:
URL:https://newhopedriffield.co.uk/index.php/event/fellowship-meal-15/
LOCATION:New Hope Church\, 35a Wansford Road\, Driffield\, YO25 5NB
CATEGORIES:Church Social Event
ORGANIZER;CN="Pastor Rob Case":MAILTO:newhopechurch00@gmail.com
END:VEVENT
BEGIN:VEVENT
DTSTART;TZID=Europe/London:20240303T133000
DTEND;TZID=Europe/London:20240303T163000
DTSTAMP:20260422T120037
CREATED:20240121T164119Z
LAST-MODIFIED:20240121T164119Z
UID:34933-1709472600-1709483400@newhopedriffield.co.uk
SUMMARY:Fellowship meal
DESCRIPTION:
URL:https://newhopedriffield.co.uk/index.php/event/fellowship-meal-14/
LOCATION:New Hope Church\, 35a Wansford Road\, Driffield\, YO25 5NB
CATEGORIES:Church Social Event
ORGANIZER;CN="Pastor Rob Case":MAILTO:newhopechurch00@gmail.com
END:VEVENT
BEGIN:VEVENT
DTSTART;TZID=Europe/London:20240204T133000
DTEND;TZID=Europe/London:20240204T163000
DTSTAMP:20260422T120037
CREATED:20240121T164105Z
LAST-MODIFIED:20240121T164105Z
UID:34931-1707053400-1707064200@newhopedriffield.co.uk
SUMMARY:Fellowship meal
DESCRIPTION:
URL:https://newhopedriffield.co.uk/index.php/event/fellowship-meal-13/
LOCATION:New Hope Church\, 35a Wansford Road\, Driffield\, YO25 5NB
CATEGORIES:Church Social Event
ORGANIZER;CN="Pastor Rob Case":MAILTO:newhopechurch00@gmail.com
END:VEVENT
BEGIN:VEVENT
DTSTART;TZID=Europe/London:20240107T133000
DTEND;TZID=Europe/London:20240107T163000
DTSTAMP:20260422T120037
CREATED:20231119T132948Z
LAST-MODIFIED:20231119T132948Z
UID:34606-1704634200-1704645000@newhopedriffield.co.uk
SUMMARY:Fellowship meal
DESCRIPTION:
URL:https://newhopedriffield.co.uk/index.php/event/fellowship-meal-10/
LOCATION:New Hope Church\, 35a Wansford Road\, Driffield\, YO25 5NB
CATEGORIES:Church Social Event
ORGANIZER;CN="Pastor Rob Case":MAILTO:newhopechurch00@gmail.com
END:VEVENT
BEGIN:VEVENT
DTSTART;TZID=Europe/London:20231203T140000
DTEND;TZID=Europe/London:20231203T163000
DTSTAMP:20260422T120037
CREATED:20231119T132907Z
LAST-MODIFIED:20231119T132907Z
UID:34604-1701612000-1701621000@newhopedriffield.co.uk
SUMMARY:Christmas meal
DESCRIPTION:
URL:https://newhopedriffield.co.uk/index.php/event/christmas-meal-2/
CATEGORIES:Church Social Event
ORGANIZER;CN="Pastor Rob Case":MAILTO:newhopechurch00@gmail.com
END:VEVENT
BEGIN:VEVENT
DTSTART;TZID=Europe/London:20231105T130000
DTEND;TZID=Europe/London:20231105T170000
DTSTAMP:20260422T120037
CREATED:20230919T135915Z
LAST-MODIFIED:20230919T135915Z
UID:34388-1699189200-1699203600@newhopedriffield.co.uk
SUMMARY:Fellowship Meal
DESCRIPTION:
URL:https://newhopedriffield.co.uk/index.php/event/fellowship-meal-12/
CATEGORIES:Church Social Event
END:VEVENT
BEGIN:VEVENT
DTSTART;TZID=Europe/London:20231001T130000
DTEND;TZID=Europe/London:20231001T170000
DTSTAMP:20260422T120037
CREATED:20230919T135851Z
LAST-MODIFIED:20230919T135851Z
UID:34386-1696165200-1696179600@newhopedriffield.co.uk
SUMMARY:Fellowship Meal
DESCRIPTION:
URL:https://newhopedriffield.co.uk/index.php/event/fellowship-meal-11/
CATEGORIES:Church Social Event
END:VEVENT
BEGIN:VEVENT
DTSTART;TZID=Europe/London:20230903T133000
DTEND;TZID=Europe/London:20230903T160000
DTSTAMP:20260422T120037
CREATED:20230621T113912Z
LAST-MODIFIED:20230621T113912Z
UID:34141-1693747800-1693756800@newhopedriffield.co.uk
SUMMARY:Fellowship Meal.
DESCRIPTION:
URL:https://newhopedriffield.co.uk/index.php/event/fellowship-meal-9/
LOCATION:New Hope Church\, 35a Wansford Road\, Driffield\, YO25 5NB
CATEGORIES:Church Social Event
ORGANIZER;CN="Pastor Rob Case":MAILTO:newhopechurch00@gmail.com
END:VEVENT
BEGIN:VEVENT
DTSTART;TZID=Europe/London:20230806T133000
DTEND;TZID=Europe/London:20230806T160000
DTSTAMP:20260422T120037
CREATED:20230621T113853Z
LAST-MODIFIED:20230621T113853Z
UID:34139-1691328600-1691337600@newhopedriffield.co.uk
SUMMARY:Fellowship Meal.
DESCRIPTION:
URL:https://newhopedriffield.co.uk/index.php/event/fellowship-meal-8/
LOCATION:New Hope Church\, 35a Wansford Road\, Driffield\, YO25 5NB
CATEGORIES:Church Social Event
ORGANIZER;CN="Pastor Rob Case":MAILTO:newhopechurch00@gmail.com
END:VEVENT
BEGIN:VEVENT
DTSTART;TZID=Europe/London:20230702T133000
DTEND;TZID=Europe/London:20230702T160000
DTSTAMP:20260422T120037
CREATED:20230621T113823Z
LAST-MODIFIED:20230621T113823Z
UID:34137-1688304600-1688313600@newhopedriffield.co.uk
SUMMARY:Fellowship Meal.
DESCRIPTION:
URL:https://newhopedriffield.co.uk/index.php/event/fellowship-meal-7/
LOCATION:New Hope Church\, 35a Wansford Road\, Driffield\, YO25 5NB
CATEGORIES:Church Social Event
ORGANIZER;CN="Pastor Rob Case":MAILTO:newhopechurch00@gmail.com
END:VEVENT
BEGIN:VEVENT
DTSTART;TZID=Europe/London:20230604T130000
DTEND;TZID=Europe/London:20230604T160000
DTSTAMP:20260422T120037
CREATED:20230308T145006Z
LAST-MODIFIED:20230308T145006Z
UID:33885-1685883600-1685894400@newhopedriffield.co.uk
SUMMARY:Fellowship meal.
DESCRIPTION:
URL:https://newhopedriffield.co.uk/index.php/event/fellowship-meal-4/
LOCATION:New Hope Church\, 35a Wansford Road\, Driffield\, YO25 5NB
CATEGORIES:Church Social Event
ORGANIZER;CN="Pastor Rob Case":MAILTO:newhopechurch00@gmail.com
END:VEVENT
BEGIN:VEVENT
DTSTART;TZID=Europe/London:20230507T130000
DTEND;TZID=Europe/London:20230507T160000
DTSTAMP:20260422T120037
CREATED:20230308T144922Z
LAST-MODIFIED:20230308T144922Z
UID:33883-1683464400-1683475200@newhopedriffield.co.uk
SUMMARY:Fellowship meal.
DESCRIPTION:
URL:https://newhopedriffield.co.uk/index.php/event/fellowship-meal-3/
LOCATION:New Hope Church\, 35a Wansford Road\, Driffield\, YO25 5NB
CATEGORIES:Church Social Event
ORGANIZER;CN="Pastor Rob Case":MAILTO:newhopechurch00@gmail.com
END:VEVENT
BEGIN:VEVENT
DTSTART;TZID=Europe/London:20230402T103000
DTEND;TZID=Europe/London:20230402T120000
DTSTAMP:20260422T120037
CREATED:20230105T171221Z
LAST-MODIFIED:20230105T171221Z
UID:33718-1680431400-1680436800@newhopedriffield.co.uk
SUMMARY:Fellowship Meal.
DESCRIPTION:
URL:https://newhopedriffield.co.uk/index.php/event/fellowship-meal-5/
LOCATION:New Hope Church\, 35a Wansford Road\, Driffield\, YO25 5NB
CATEGORIES:Church Social Event
ORGANIZER;CN="Pastor Rob Case":MAILTO:newhopechurch00@gmail.com
END:VEVENT
BEGIN:VEVENT
DTSTART;TZID=Europe/London:20230305T130000
DTEND;TZID=Europe/London:20230305T160000
DTSTAMP:20260422T120037
CREATED:20230105T162858Z
LAST-MODIFIED:20230105T162858Z
UID:33675-1678021200-1678032000@newhopedriffield.co.uk
SUMMARY:Fellowship Lunch.
DESCRIPTION:
URL:https://newhopedriffield.co.uk/index.php/event/fellowship-lunch/
LOCATION:New Hope Church\, 35a Wansford Road\, Driffield\, YO25 5NB
CATEGORIES:Church Social Event
ORGANIZER;CN="Pastor Rob Case":MAILTO:newhopechurch00@gmail.com
END:VEVENT
BEGIN:VEVENT
DTSTART;TZID=Europe/London:20230205T130000
DTEND;TZID=Europe/London:20230205T160000
DTSTAMP:20260422T120037
CREATED:20230105T182423Z
LAST-MODIFIED:20230105T182423Z
UID:33809-1675602000-1675612800@newhopedriffield.co.uk
SUMMARY:Fellowship Meal.
DESCRIPTION:
URL:https://newhopedriffield.co.uk/index.php/event/fellowship-meal-6/
LOCATION:New Hope Church\, 35a Wansford Road\, Driffield\, YO25 5NB
CATEGORIES:Church Social Event
ORGANIZER;CN="Pastor Rob Case":MAILTO:newhopechurch00@gmail.com
END:VEVENT
END:VCALENDAR