BEGIN:VCALENDAR
VERSION:2.0
PRODID:-//New Hope Driffield - ECPv6.15.14//NONSGML v1.0//EN
CALSCALE:GREGORIAN
METHOD:PUBLISH
X-WR-CALNAME:New Hope Driffield
X-ORIGINAL-URL:https://newhopedriffield.co.uk
X-WR-CALDESC:Events for New Hope Driffield
REFRESH-INTERVAL;VALUE=DURATION:PT1H
X-Robots-Tag:noindex
X-PUBLISHED-TTL:PT1H
BEGIN:VTIMEZONE
TZID:Europe/London
BEGIN:DAYLIGHT
TZOFFSETFROM:+0000
TZOFFSETTO:+0100
TZNAME:BST
DTSTART:20230326T010000
END:DAYLIGHT
BEGIN:STANDARD
TZOFFSETFROM:+0100
TZOFFSETTO:+0000
TZNAME:GMT
DTSTART:20231029T010000
END:STANDARD
BEGIN:DAYLIGHT
TZOFFSETFROM:+0000
TZOFFSETTO:+0100
TZNAME:BST
DTSTART:20240331T010000
END:DAYLIGHT
BEGIN:STANDARD
TZOFFSETFROM:+0100
TZOFFSETTO:+0000
TZNAME:GMT
DTSTART:20241027T010000
END:STANDARD
BEGIN:DAYLIGHT
TZOFFSETFROM:+0000
TZOFFSETTO:+0100
TZNAME:BST
DTSTART:20250330T010000
END:DAYLIGHT
BEGIN:STANDARD
TZOFFSETFROM:+0100
TZOFFSETTO:+0000
TZNAME:GMT
DTSTART:20251026T010000
END:STANDARD
END:VTIMEZONE
BEGIN:VEVENT
DTSTART;TZID=Europe/London:20240926T091500
DTEND;TZID=Europe/London:20240926T111500
DTSTAMP:20260426T014054
CREATED:20240707T152006Z
LAST-MODIFIED:20240707T152006Z
UID:35430-1727342100-1727349300@newhopedriffield.co.uk
SUMMARY:Twinkling Stars
DESCRIPTION:
URL:https://newhopedriffield.co.uk/index.php/event/twinkling-stars-137/
LOCATION:New Hope Church\, 35a Wansford Road\, Driffield\, YO25 5NB
CATEGORIES:Children's Ministry
ORGANIZER;CN="Pastor Rob Case":MAILTO:newhopechurch00@gmail.com
END:VEVENT
BEGIN:VEVENT
DTSTART;TZID=Europe/London:20240919T091500
DTEND;TZID=Europe/London:20240919T111500
DTSTAMP:20260426T014054
CREATED:20240707T151949Z
LAST-MODIFIED:20240707T151949Z
UID:35428-1726737300-1726744500@newhopedriffield.co.uk
SUMMARY:Twinkling Stars
DESCRIPTION:
URL:https://newhopedriffield.co.uk/index.php/event/twinkling-stars-136/
LOCATION:New Hope Church\, 35a Wansford Road\, Driffield\, YO25 5NB
CATEGORIES:Children's Ministry
ORGANIZER;CN="Pastor Rob Case":MAILTO:newhopechurch00@gmail.com
END:VEVENT
BEGIN:VEVENT
DTSTART;TZID=Europe/London:20240829T091500
DTEND;TZID=Europe/London:20240829T111500
DTSTAMP:20260426T014054
CREATED:20240526T144234Z
LAST-MODIFIED:20240526T144234Z
UID:35301-1724922900-1724930100@newhopedriffield.co.uk
SUMMARY:Twinkling Stars
DESCRIPTION:
URL:https://newhopedriffield.co.uk/index.php/event/twinkling-stars-133/
LOCATION:New Hope Church\, 35a Wansford Road\, Driffield\, YO25 5NB
CATEGORIES:Children's Ministry
ORGANIZER;CN="Pastor Rob Case":MAILTO:newhopechurch00@gmail.com
END:VEVENT
BEGIN:VEVENT
DTSTART;TZID=Europe/London:20240822T091500
DTEND;TZID=Europe/London:20240822T111500
DTSTAMP:20260426T014054
CREATED:20240526T144217Z
LAST-MODIFIED:20240526T144217Z
UID:35299-1724318100-1724325300@newhopedriffield.co.uk
SUMMARY:Twinkling Stars
DESCRIPTION:
URL:https://newhopedriffield.co.uk/index.php/event/twinkling-stars-132/
LOCATION:New Hope Church\, 35a Wansford Road\, Driffield\, YO25 5NB
CATEGORIES:Children's Ministry
ORGANIZER;CN="Pastor Rob Case":MAILTO:newhopechurch00@gmail.com
END:VEVENT
BEGIN:VEVENT
DTSTART;TZID=Europe/London:20240815T091500
DTEND;TZID=Europe/London:20240815T111500
DTSTAMP:20260426T014054
CREATED:20240526T144157Z
LAST-MODIFIED:20240526T144157Z
UID:35297-1723713300-1723720500@newhopedriffield.co.uk
SUMMARY:Twinkling Stars
DESCRIPTION:
URL:https://newhopedriffield.co.uk/index.php/event/twinkling-stars-131/
LOCATION:New Hope Church\, 35a Wansford Road\, Driffield\, YO25 5NB
CATEGORIES:Children's Ministry
ORGANIZER;CN="Pastor Rob Case":MAILTO:newhopechurch00@gmail.com
END:VEVENT
BEGIN:VEVENT
DTSTART;TZID=Europe/London:20240808T091500
DTEND;TZID=Europe/London:20240808T111500
DTSTAMP:20260426T014054
CREATED:20240526T144133Z
LAST-MODIFIED:20240526T144133Z
UID:35295-1723108500-1723115700@newhopedriffield.co.uk
SUMMARY:Twinkling Stars
DESCRIPTION:
URL:https://newhopedriffield.co.uk/index.php/event/twinkling-stars-130/
LOCATION:New Hope Church\, 35a Wansford Road\, Driffield\, YO25 5NB
CATEGORIES:Children's Ministry
ORGANIZER;CN="Pastor Rob Case":MAILTO:newhopechurch00@gmail.com
END:VEVENT
BEGIN:VEVENT
DTSTART;TZID=Europe/London:20240801T091500
DTEND;TZID=Europe/London:20240801T111500
DTSTAMP:20260426T014054
CREATED:20240526T144115Z
LAST-MODIFIED:20240526T144115Z
UID:35293-1722503700-1722510900@newhopedriffield.co.uk
SUMMARY:Twinkling Stars
DESCRIPTION:
URL:https://newhopedriffield.co.uk/index.php/event/twinkling-stars-129/
LOCATION:New Hope Church\, 35a Wansford Road\, Driffield\, YO25 5NB
CATEGORIES:Children's Ministry
ORGANIZER;CN="Pastor Rob Case":MAILTO:newhopechurch00@gmail.com
END:VEVENT
BEGIN:VEVENT
DTSTART;TZID=Europe/London:20240725T091500
DTEND;TZID=Europe/London:20240725T111500
DTSTAMP:20260426T014054
CREATED:20240526T144057Z
LAST-MODIFIED:20240526T144057Z
UID:35291-1721898900-1721906100@newhopedriffield.co.uk
SUMMARY:Twinkling Stars
DESCRIPTION:
URL:https://newhopedriffield.co.uk/index.php/event/twinkling-stars-128/
LOCATION:New Hope Church\, 35a Wansford Road\, Driffield\, YO25 5NB
CATEGORIES:Children's Ministry
ORGANIZER;CN="Pastor Rob Case":MAILTO:newhopechurch00@gmail.com
END:VEVENT
BEGIN:VEVENT
DTSTART;TZID=Europe/London:20240718T091500
DTEND;TZID=Europe/London:20240718T111500
DTSTAMP:20260426T014054
CREATED:20240526T144040Z
LAST-MODIFIED:20240526T144040Z
UID:35289-1721294100-1721301300@newhopedriffield.co.uk
SUMMARY:Twinkling Stars
DESCRIPTION:
URL:https://newhopedriffield.co.uk/index.php/event/twinkling-stars-127/
LOCATION:New Hope Church\, 35a Wansford Road\, Driffield\, YO25 5NB
CATEGORIES:Children's Ministry
ORGANIZER;CN="Pastor Rob Case":MAILTO:newhopechurch00@gmail.com
END:VEVENT
BEGIN:VEVENT
DTSTART;TZID=Europe/London:20240711T091500
DTEND;TZID=Europe/London:20240711T111500
DTSTAMP:20260426T014054
CREATED:20240526T144023Z
LAST-MODIFIED:20240526T144023Z
UID:35287-1720689300-1720696500@newhopedriffield.co.uk
SUMMARY:Twinkling Stars
DESCRIPTION:
URL:https://newhopedriffield.co.uk/index.php/event/twinkling-stars-126/
LOCATION:New Hope Church\, 35a Wansford Road\, Driffield\, YO25 5NB
CATEGORIES:Children's Ministry
ORGANIZER;CN="Pastor Rob Case":MAILTO:newhopechurch00@gmail.com
END:VEVENT
BEGIN:VEVENT
DTSTART;TZID=Europe/London:20240704T091500
DTEND;TZID=Europe/London:20240704T111500
DTSTAMP:20260426T014054
CREATED:20240526T144004Z
LAST-MODIFIED:20240526T144004Z
UID:35285-1720084500-1720091700@newhopedriffield.co.uk
SUMMARY:Twinkling Stars
DESCRIPTION:
URL:https://newhopedriffield.co.uk/index.php/event/twinkling-stars-125/
LOCATION:New Hope Church\, 35a Wansford Road\, Driffield\, YO25 5NB
CATEGORIES:Children's Ministry
ORGANIZER;CN="Pastor Rob Case":MAILTO:newhopechurch00@gmail.com
END:VEVENT
BEGIN:VEVENT
DTSTART;TZID=Europe/London:20240627T091500
DTEND;TZID=Europe/London:20240627T111500
DTSTAMP:20260426T014054
CREATED:20240428T133245Z
LAST-MODIFIED:20240428T133245Z
UID:35240-1719479700-1719486900@newhopedriffield.co.uk
SUMMARY:Twinkling Stars
DESCRIPTION:
URL:https://newhopedriffield.co.uk/index.php/event/twinkling-stars-124/
LOCATION:New Hope Church\, 35a Wansford Road\, Driffield\, YO25 5NB
CATEGORIES:Children's Ministry
ORGANIZER;CN="Pastor Rob Case":MAILTO:newhopechurch00@gmail.com
END:VEVENT
BEGIN:VEVENT
DTSTART;TZID=Europe/London:20240620T091500
DTEND;TZID=Europe/London:20240620T111500
DTSTAMP:20260426T014054
CREATED:20240428T133232Z
LAST-MODIFIED:20240428T133232Z
UID:35238-1718874900-1718882100@newhopedriffield.co.uk
SUMMARY:Twinkling Stars
DESCRIPTION:
URL:https://newhopedriffield.co.uk/index.php/event/twinkling-stars-123/
LOCATION:New Hope Church\, 35a Wansford Road\, Driffield\, YO25 5NB
CATEGORIES:Children's Ministry
ORGANIZER;CN="Pastor Rob Case":MAILTO:newhopechurch00@gmail.com
END:VEVENT
BEGIN:VEVENT
DTSTART;TZID=Europe/London:20240613T091500
DTEND;TZID=Europe/London:20240613T111500
DTSTAMP:20260426T014054
CREATED:20240428T133218Z
LAST-MODIFIED:20240428T133218Z
UID:35236-1718270100-1718277300@newhopedriffield.co.uk
SUMMARY:Twinkling Stars
DESCRIPTION:
URL:https://newhopedriffield.co.uk/index.php/event/twinkling-stars-122/
LOCATION:New Hope Church\, 35a Wansford Road\, Driffield\, YO25 5NB
CATEGORIES:Children's Ministry
ORGANIZER;CN="Pastor Rob Case":MAILTO:newhopechurch00@gmail.com
END:VEVENT
BEGIN:VEVENT
DTSTART;TZID=Europe/London:20240606T091500
DTEND;TZID=Europe/London:20240606T111500
DTSTAMP:20260426T014054
CREATED:20240226T132546Z
LAST-MODIFIED:20240428T133204Z
UID:35076-1717665300-1717672500@newhopedriffield.co.uk
SUMMARY:Twinkling Stars
DESCRIPTION:
URL:https://newhopedriffield.co.uk/index.php/event/twinkling-stars-121/
LOCATION:New Hope Church\, 35a Wansford Road\, Driffield\, YO25 5NB
CATEGORIES:Children's Ministry
ORGANIZER;CN="Pastor Rob Case":MAILTO:newhopechurch00@gmail.com
END:VEVENT
BEGIN:VEVENT
DTSTART;TZID=Europe/London:20240523T091500
DTEND;TZID=Europe/London:20240523T111500
DTSTAMP:20260426T014054
CREATED:20240226T132528Z
LAST-MODIFIED:20240226T132528Z
UID:35074-1716455700-1716462900@newhopedriffield.co.uk
SUMMARY:Twinkling Stars
DESCRIPTION:
URL:https://newhopedriffield.co.uk/index.php/event/twinkling-stars-120/
LOCATION:New Hope Church\, 35a Wansford Road\, Driffield\, YO25 5NB
CATEGORIES:Children's Ministry
ORGANIZER;CN="Pastor Rob Case":MAILTO:newhopechurch00@gmail.com
END:VEVENT
BEGIN:VEVENT
DTSTART;TZID=Europe/London:20240516T091500
DTEND;TZID=Europe/London:20240516T111500
DTSTAMP:20260426T014054
CREATED:20240226T132514Z
LAST-MODIFIED:20240226T132514Z
UID:35072-1715850900-1715858100@newhopedriffield.co.uk
SUMMARY:Twinkling Stars
DESCRIPTION:
URL:https://newhopedriffield.co.uk/index.php/event/twinkling-stars-119/
LOCATION:New Hope Church\, 35a Wansford Road\, Driffield\, YO25 5NB
CATEGORIES:Children's Ministry
ORGANIZER;CN="Pastor Rob Case":MAILTO:newhopechurch00@gmail.com
END:VEVENT
BEGIN:VEVENT
DTSTART;TZID=Europe/London:20240509T091500
DTEND;TZID=Europe/London:20240509T111500
DTSTAMP:20260426T014054
CREATED:20240226T132459Z
LAST-MODIFIED:20240226T132459Z
UID:35070-1715246100-1715253300@newhopedriffield.co.uk
SUMMARY:Twinkling Stars
DESCRIPTION:
URL:https://newhopedriffield.co.uk/index.php/event/twinkling-stars-118/
LOCATION:New Hope Church\, 35a Wansford Road\, Driffield\, YO25 5NB
CATEGORIES:Children's Ministry
ORGANIZER;CN="Pastor Rob Case":MAILTO:newhopechurch00@gmail.com
END:VEVENT
BEGIN:VEVENT
DTSTART;TZID=Europe/London:20240502T091500
DTEND;TZID=Europe/London:20240502T111500
DTSTAMP:20260426T014054
CREATED:20240226T132442Z
LAST-MODIFIED:20240226T132442Z
UID:35068-1714641300-1714648500@newhopedriffield.co.uk
SUMMARY:Twinkling Stars
DESCRIPTION:
URL:https://newhopedriffield.co.uk/index.php/event/twinkling-stars-117/
LOCATION:New Hope Church\, 35a Wansford Road\, Driffield\, YO25 5NB
CATEGORIES:Children's Ministry
ORGANIZER;CN="Pastor Rob Case":MAILTO:newhopechurch00@gmail.com
END:VEVENT
BEGIN:VEVENT
DTSTART;TZID=Europe/London:20240425T091500
DTEND;TZID=Europe/London:20240425T111500
DTSTAMP:20260426T014054
CREATED:20240226T132427Z
LAST-MODIFIED:20240226T132427Z
UID:35066-1714036500-1714043700@newhopedriffield.co.uk
SUMMARY:Twinkling Stars
DESCRIPTION:
URL:https://newhopedriffield.co.uk/index.php/event/twinkling-stars-116/
LOCATION:New Hope Church\, 35a Wansford Road\, Driffield\, YO25 5NB
CATEGORIES:Children's Ministry
ORGANIZER;CN="Pastor Rob Case":MAILTO:newhopechurch00@gmail.com
END:VEVENT
BEGIN:VEVENT
DTSTART;TZID=Europe/London:20240418T091500
DTEND;TZID=Europe/London:20240418T111500
DTSTAMP:20260426T014054
CREATED:20240226T132413Z
LAST-MODIFIED:20240226T132413Z
UID:35064-1713431700-1713438900@newhopedriffield.co.uk
SUMMARY:Twinkling Stars
DESCRIPTION:
URL:https://newhopedriffield.co.uk/index.php/event/twinkling-stars-115/
LOCATION:New Hope Church\, 35a Wansford Road\, Driffield\, YO25 5NB
CATEGORIES:Children's Ministry
ORGANIZER;CN="Pastor Rob Case":MAILTO:newhopechurch00@gmail.com
END:VEVENT
BEGIN:VEVENT
DTSTART;TZID=Europe/London:20240411T091500
DTEND;TZID=Europe/London:20240411T111500
DTSTAMP:20260426T014054
CREATED:20240226T132359Z
LAST-MODIFIED:20240226T132359Z
UID:35062-1712826900-1712834100@newhopedriffield.co.uk
SUMMARY:Twinkling Stars
DESCRIPTION:
URL:https://newhopedriffield.co.uk/index.php/event/twinkling-stars-114/
LOCATION:New Hope Church\, 35a Wansford Road\, Driffield\, YO25 5NB
CATEGORIES:Children's Ministry
ORGANIZER;CN="Pastor Rob Case":MAILTO:newhopechurch00@gmail.com
END:VEVENT
BEGIN:VEVENT
DTSTART;TZID=Europe/London:20240404T091500
DTEND;TZID=Europe/London:20240404T111500
DTSTAMP:20260426T014054
CREATED:20240226T132346Z
LAST-MODIFIED:20240226T132346Z
UID:35060-1712222100-1712229300@newhopedriffield.co.uk
SUMMARY:Twinkling Stars
DESCRIPTION:
URL:https://newhopedriffield.co.uk/index.php/event/twinkling-stars-104/
LOCATION:New Hope Church\, 35a Wansford Road\, Driffield\, YO25 5NB
CATEGORIES:Children's Ministry
ORGANIZER;CN="Pastor Rob Case":MAILTO:newhopechurch00@gmail.com
END:VEVENT
BEGIN:VEVENT
DTSTART;TZID=Europe/London:20240328T091500
DTEND;TZID=Europe/London:20240328T111500
DTSTAMP:20260426T014054
CREATED:20240121T161040Z
LAST-MODIFIED:20240121T161040Z
UID:34855-1711617300-1711624500@newhopedriffield.co.uk
SUMMARY:Twinkling Stars
DESCRIPTION:
URL:https://newhopedriffield.co.uk/index.php/event/twinkling-stars-113/
LOCATION:New Hope Church\, 35a Wansford Road\, Driffield\, YO25 5NB
CATEGORIES:Children's Ministry
ORGANIZER;CN="Pastor Rob Case":MAILTO:newhopechurch00@gmail.com
END:VEVENT
BEGIN:VEVENT
DTSTART;TZID=Europe/London:20240321T091500
DTEND;TZID=Europe/London:20240321T111500
DTSTAMP:20260426T014054
CREATED:20240121T161024Z
LAST-MODIFIED:20240121T161024Z
UID:34853-1711012500-1711019700@newhopedriffield.co.uk
SUMMARY:Twinkling Stars
DESCRIPTION:
URL:https://newhopedriffield.co.uk/index.php/event/twinkling-stars-112/
LOCATION:New Hope Church\, 35a Wansford Road\, Driffield\, YO25 5NB
CATEGORIES:Children's Ministry
ORGANIZER;CN="Pastor Rob Case":MAILTO:newhopechurch00@gmail.com
END:VEVENT
BEGIN:VEVENT
DTSTART;TZID=Europe/London:20240314T091500
DTEND;TZID=Europe/London:20240314T111500
DTSTAMP:20260426T014054
CREATED:20240121T161009Z
LAST-MODIFIED:20240121T161009Z
UID:34851-1710407700-1710414900@newhopedriffield.co.uk
SUMMARY:Twinkling Stars
DESCRIPTION:
URL:https://newhopedriffield.co.uk/index.php/event/twinkling-stars-111/
LOCATION:New Hope Church\, 35a Wansford Road\, Driffield\, YO25 5NB
CATEGORIES:Children's Ministry
ORGANIZER;CN="Pastor Rob Case":MAILTO:newhopechurch00@gmail.com
END:VEVENT
BEGIN:VEVENT
DTSTART;TZID=Europe/London:20240307T091500
DTEND;TZID=Europe/London:20240307T111500
DTSTAMP:20260426T014054
CREATED:20240121T160953Z
LAST-MODIFIED:20240121T160953Z
UID:34849-1709802900-1709810100@newhopedriffield.co.uk
SUMMARY:Twinkling Stars
DESCRIPTION:
URL:https://newhopedriffield.co.uk/index.php/event/twinkling-stars-110/
LOCATION:New Hope Church\, 35a Wansford Road\, Driffield\, YO25 5NB
CATEGORIES:Children's Ministry
ORGANIZER;CN="Pastor Rob Case":MAILTO:newhopechurch00@gmail.com
END:VEVENT
BEGIN:VEVENT
DTSTART;TZID=Europe/London:20240229T091500
DTEND;TZID=Europe/London:20240229T111500
DTSTAMP:20260426T014054
CREATED:20240121T160933Z
LAST-MODIFIED:20240121T160933Z
UID:34846-1709198100-1709205300@newhopedriffield.co.uk
SUMMARY:Twinkling Stars
DESCRIPTION:
URL:https://newhopedriffield.co.uk/index.php/event/twinkling-stars-109/
LOCATION:New Hope Church\, 35a Wansford Road\, Driffield\, YO25 5NB
CATEGORIES:Children's Ministry
ORGANIZER;CN="Pastor Rob Case":MAILTO:newhopechurch00@gmail.com
END:VEVENT
BEGIN:VEVENT
DTSTART;TZID=Europe/London:20240222T091500
DTEND;TZID=Europe/London:20240222T111500
DTSTAMP:20260426T014054
CREATED:20240121T160917Z
LAST-MODIFIED:20240121T160917Z
UID:34844-1708593300-1708600500@newhopedriffield.co.uk
SUMMARY:Twinkling Stars
DESCRIPTION:
URL:https://newhopedriffield.co.uk/index.php/event/twinkling-stars-108/
LOCATION:New Hope Church\, 35a Wansford Road\, Driffield\, YO25 5NB
CATEGORIES:Children's Ministry
ORGANIZER;CN="Pastor Rob Case":MAILTO:newhopechurch00@gmail.com
END:VEVENT
BEGIN:VEVENT
DTSTART;TZID=Europe/London:20240215T091500
DTEND;TZID=Europe/London:20240215T111500
DTSTAMP:20260426T014054
CREATED:20240121T160903Z
LAST-MODIFIED:20240121T160903Z
UID:34842-1707988500-1707995700@newhopedriffield.co.uk
SUMMARY:Twinkling Stars
DESCRIPTION:
URL:https://newhopedriffield.co.uk/index.php/event/twinkling-stars-107/
LOCATION:New Hope Church\, 35a Wansford Road\, Driffield\, YO25 5NB
CATEGORIES:Children's Ministry
ORGANIZER;CN="Pastor Rob Case":MAILTO:newhopechurch00@gmail.com
END:VEVENT
END:VCALENDAR