BEGIN:VCALENDAR
VERSION:2.0
PRODID:-//New Hope Driffield - ECPv6.15.14//NONSGML v1.0//EN
CALSCALE:GREGORIAN
METHOD:PUBLISH
X-WR-CALNAME:New Hope Driffield
X-ORIGINAL-URL:https://newhopedriffield.co.uk
X-WR-CALDESC:Events for New Hope Driffield
REFRESH-INTERVAL;VALUE=DURATION:PT1H
X-Robots-Tag:noindex
X-PUBLISHED-TTL:PT1H
BEGIN:VTIMEZONE
TZID:Europe/London
BEGIN:DAYLIGHT
TZOFFSETFROM:+0000
TZOFFSETTO:+0100
TZNAME:BST
DTSTART:20230326T010000
END:DAYLIGHT
BEGIN:STANDARD
TZOFFSETFROM:+0100
TZOFFSETTO:+0000
TZNAME:GMT
DTSTART:20231029T010000
END:STANDARD
BEGIN:DAYLIGHT
TZOFFSETFROM:+0000
TZOFFSETTO:+0100
TZNAME:BST
DTSTART:20240331T010000
END:DAYLIGHT
BEGIN:STANDARD
TZOFFSETFROM:+0100
TZOFFSETTO:+0000
TZNAME:GMT
DTSTART:20241027T010000
END:STANDARD
BEGIN:DAYLIGHT
TZOFFSETFROM:+0000
TZOFFSETTO:+0100
TZNAME:BST
DTSTART:20250330T010000
END:DAYLIGHT
BEGIN:STANDARD
TZOFFSETFROM:+0100
TZOFFSETTO:+0000
TZNAME:GMT
DTSTART:20251026T010000
END:STANDARD
END:VTIMEZONE
BEGIN:VEVENT
DTSTART;TZID=Europe/London:20240924T190000
DTEND;TZID=Europe/London:20240924T200000
DTSTAMP:20260422T052733
CREATED:20240707T152249Z
LAST-MODIFIED:20240707T152249Z
UID:35446-1727204400-1727208000@newhopedriffield.co.uk
SUMMARY:Bible Study
DESCRIPTION:
URL:https://newhopedriffield.co.uk/index.php/event/bible-study-85/
LOCATION:New Hope Church\, 35a Wansford Road\, Driffield\, YO25 5NB
CATEGORIES:Bible Study
ORGANIZER;CN="Pastor Rob Case":MAILTO:newhopechurch00@gmail.com
END:VEVENT
BEGIN:VEVENT
DTSTART;TZID=Europe/London:20240827T190000
DTEND;TZID=Europe/London:20240827T200000
DTSTAMP:20260422T052733
CREATED:20240526T150144Z
LAST-MODIFIED:20240526T152212Z
UID:35371-1724785200-1724788800@newhopedriffield.co.uk
SUMMARY:Bible Study
DESCRIPTION:
URL:https://newhopedriffield.co.uk/index.php/event/bible-study-81/
LOCATION:New Hope Church\, 35a Wansford Road\, Driffield\, YO25 5NB
CATEGORIES:Bible Study
ORGANIZER;CN="Pastor Rob Case":MAILTO:newhopechurch00@gmail.com
END:VEVENT
BEGIN:VEVENT
DTSTART;TZID=Europe/London:20240820T190000
DTEND;TZID=Europe/London:20240820T200000
DTSTAMP:20260422T052733
CREATED:20240526T150125Z
LAST-MODIFIED:20240526T152025Z
UID:35369-1724180400-1724184000@newhopedriffield.co.uk
SUMMARY:Bible Study
DESCRIPTION:
URL:https://newhopedriffield.co.uk/index.php/event/bible-study-80/
LOCATION:New Hope Church\, 35a Wansford Road\, Driffield\, YO25 5NB
CATEGORIES:Bible Study
ORGANIZER;CN="Pastor Rob Case":MAILTO:newhopechurch00@gmail.com
END:VEVENT
BEGIN:VEVENT
DTSTART;TZID=Europe/London:20240813T190000
DTEND;TZID=Europe/London:20240813T200000
DTSTAMP:20260422T052733
CREATED:20240526T150109Z
LAST-MODIFIED:20240526T151947Z
UID:35367-1723575600-1723579200@newhopedriffield.co.uk
SUMMARY:Bible Study
DESCRIPTION:
URL:https://newhopedriffield.co.uk/index.php/event/bible-study-79/
LOCATION:New Hope Church\, 35a Wansford Road\, Driffield\, YO25 5NB
CATEGORIES:Bible Study
ORGANIZER;CN="Pastor Rob Case":MAILTO:newhopechurch00@gmail.com
END:VEVENT
BEGIN:VEVENT
DTSTART;TZID=Europe/London:20240806T190000
DTEND;TZID=Europe/London:20240806T200000
DTSTAMP:20260422T052733
CREATED:20240526T150049Z
LAST-MODIFIED:20240526T151827Z
UID:35365-1722970800-1722974400@newhopedriffield.co.uk
SUMMARY:Bible Study
DESCRIPTION:
URL:https://newhopedriffield.co.uk/index.php/event/bible-study-78/
LOCATION:New Hope Church\, 35a Wansford Road\, Driffield\, YO25 5NB
CATEGORIES:Bible Study
ORGANIZER;CN="Pastor Rob Case":MAILTO:newhopechurch00@gmail.com
END:VEVENT
BEGIN:VEVENT
DTSTART;TZID=Europe/London:20240730T190000
DTEND;TZID=Europe/London:20240730T200000
DTSTAMP:20260422T052733
CREATED:20240526T150028Z
LAST-MODIFIED:20240526T150028Z
UID:35363-1722366000-1722369600@newhopedriffield.co.uk
SUMMARY:Bible Study
DESCRIPTION:
URL:https://newhopedriffield.co.uk/index.php/event/bible-study-77/
LOCATION:New Hope Church\, 35a Wansford Road\, Driffield\, YO25 5NB
CATEGORIES:Bible Study
ORGANIZER;CN="Pastor Rob Case":MAILTO:newhopechurch00@gmail.com
END:VEVENT
BEGIN:VEVENT
DTSTART;TZID=Europe/London:20240723T190000
DTEND;TZID=Europe/London:20240723T200000
DTSTAMP:20260422T052733
CREATED:20240526T150004Z
LAST-MODIFIED:20240526T150004Z
UID:35361-1721761200-1721764800@newhopedriffield.co.uk
SUMMARY:Bible Study
DESCRIPTION:
URL:https://newhopedriffield.co.uk/index.php/event/bible-study-76/
LOCATION:New Hope Church\, 35a Wansford Road\, Driffield\, YO25 5NB
CATEGORIES:Bible Study
ORGANIZER;CN="Pastor Rob Case":MAILTO:newhopechurch00@gmail.com
END:VEVENT
BEGIN:VEVENT
DTSTART;TZID=Europe/London:20240716T190000
DTEND;TZID=Europe/London:20240716T200000
DTSTAMP:20260422T052733
CREATED:20240526T145941Z
LAST-MODIFIED:20240526T145941Z
UID:35359-1721156400-1721160000@newhopedriffield.co.uk
SUMMARY:Bible Study
DESCRIPTION:
URL:https://newhopedriffield.co.uk/index.php/event/bible-study-72/
LOCATION:New Hope Church\, 35a Wansford Road\, Driffield\, YO25 5NB
CATEGORIES:Bible Study
ORGANIZER;CN="Pastor Rob Case":MAILTO:newhopechurch00@gmail.com
END:VEVENT
BEGIN:VEVENT
DTSTART;TZID=Europe/London:20240709T190000
DTEND;TZID=Europe/London:20240709T200000
DTSTAMP:20260422T052733
CREATED:20240526T145918Z
LAST-MODIFIED:20240526T145918Z
UID:35357-1720551600-1720555200@newhopedriffield.co.uk
SUMMARY:Bible Study
DESCRIPTION:
URL:https://newhopedriffield.co.uk/index.php/event/bible-study-71/
LOCATION:New Hope Church\, 35a Wansford Road\, Driffield\, YO25 5NB
CATEGORIES:Bible Study
ORGANIZER;CN="Pastor Rob Case":MAILTO:newhopechurch00@gmail.com
END:VEVENT
BEGIN:VEVENT
DTSTART;TZID=Europe/London:20240702T190000
DTEND;TZID=Europe/London:20240702T200000
DTSTAMP:20260422T052733
CREATED:20240428T132813Z
LAST-MODIFIED:20240526T145900Z
UID:35222-1719946800-1719950400@newhopedriffield.co.uk
SUMMARY:Bible Study
DESCRIPTION:
URL:https://newhopedriffield.co.uk/index.php/event/bible-study-74/
LOCATION:New Hope Church\, 35a Wansford Road\, Driffield\, YO25 5NB
CATEGORIES:Bible Study
ORGANIZER;CN="Pastor Rob Case":MAILTO:newhopechurch00@gmail.com
END:VEVENT
BEGIN:VEVENT
DTSTART;TZID=Europe/London:20240618T190000
DTEND;TZID=Europe/London:20240618T200000
DTSTAMP:20260422T052733
CREATED:20240428T132755Z
LAST-MODIFIED:20240428T132755Z
UID:35220-1718737200-1718740800@newhopedriffield.co.uk
SUMMARY:Bible Study
DESCRIPTION:
URL:https://newhopedriffield.co.uk/index.php/event/bible-study-73/
LOCATION:New Hope Church\, 35a Wansford Road\, Driffield\, YO25 5NB
CATEGORIES:Bible Study
ORGANIZER;CN="Pastor Rob Case":MAILTO:newhopechurch00@gmail.com
END:VEVENT
BEGIN:VEVENT
DTSTART;TZID=Europe/London:20240528T190000
DTEND;TZID=Europe/London:20240528T200000
DTSTAMP:20260422T052733
CREATED:20240428T134124Z
LAST-MODIFIED:20240428T134124Z
UID:35250-1716922800-1716926400@newhopedriffield.co.uk
SUMMARY:Bible Study
DESCRIPTION:
URL:https://newhopedriffield.co.uk/index.php/event/bible-study-75/
LOCATION:New Hope Church\, 35a Wansford Road\, Driffield\, YO25 5NB
CATEGORIES:Bible Study
ORGANIZER;CN="Pastor Rob Case":MAILTO:newhopechurch00@gmail.com
END:VEVENT
BEGIN:VEVENT
DTSTART;TZID=Europe/London:20240521T190000
DTEND;TZID=Europe/London:20240521T200000
DTSTAMP:20260422T052733
CREATED:20240226T131729Z
LAST-MODIFIED:20240226T131729Z
UID:35020-1716318000-1716321600@newhopedriffield.co.uk
SUMMARY:Bible Study
DESCRIPTION:
URL:https://newhopedriffield.co.uk/index.php/event/bible-study-70/
LOCATION:New Hope Church\, 35a Wansford Road\, Driffield\, YO25 5NB
CATEGORIES:Bible Study
ORGANIZER;CN="Pastor Rob Case":MAILTO:newhopechurch00@gmail.com
END:VEVENT
BEGIN:VEVENT
DTSTART;TZID=Europe/London:20240514T190000
DTEND;TZID=Europe/London:20240514T200000
DTSTAMP:20260422T052733
CREATED:20240226T131712Z
LAST-MODIFIED:20240226T131712Z
UID:35018-1715713200-1715716800@newhopedriffield.co.uk
SUMMARY:Bible Study
DESCRIPTION:
URL:https://newhopedriffield.co.uk/index.php/event/bible-study-69/
LOCATION:New Hope Church\, 35a Wansford Road\, Driffield\, YO25 5NB
CATEGORIES:Bible Study
ORGANIZER;CN="Pastor Rob Case":MAILTO:newhopechurch00@gmail.com
END:VEVENT
BEGIN:VEVENT
DTSTART;TZID=Europe/London:20240507T190000
DTEND;TZID=Europe/London:20240507T200000
DTSTAMP:20260422T052733
CREATED:20240226T131655Z
LAST-MODIFIED:20240226T131655Z
UID:35016-1715108400-1715112000@newhopedriffield.co.uk
SUMMARY:Bible Study
DESCRIPTION:
URL:https://newhopedriffield.co.uk/index.php/event/bible-study-68/
LOCATION:New Hope Church\, 35a Wansford Road\, Driffield\, YO25 5NB
CATEGORIES:Bible Study
ORGANIZER;CN="Pastor Rob Case":MAILTO:newhopechurch00@gmail.com
END:VEVENT
BEGIN:VEVENT
DTSTART;TZID=Europe/London:20240430T190000
DTEND;TZID=Europe/London:20240430T200000
DTSTAMP:20260422T052733
CREATED:20240226T131639Z
LAST-MODIFIED:20240226T131639Z
UID:35014-1714503600-1714507200@newhopedriffield.co.uk
SUMMARY:Bible Study
DESCRIPTION:
URL:https://newhopedriffield.co.uk/index.php/event/bible-study-67/
LOCATION:New Hope Church\, 35a Wansford Road\, Driffield\, YO25 5NB
CATEGORIES:Bible Study
ORGANIZER;CN="Pastor Rob Case":MAILTO:newhopechurch00@gmail.com
END:VEVENT
BEGIN:VEVENT
DTSTART;TZID=Europe/London:20240423T190000
DTEND;TZID=Europe/London:20240423T200000
DTSTAMP:20260422T052733
CREATED:20240226T131626Z
LAST-MODIFIED:20240226T131626Z
UID:35012-1713898800-1713902400@newhopedriffield.co.uk
SUMMARY:Bible Study
DESCRIPTION:
URL:https://newhopedriffield.co.uk/index.php/event/bible-study-66/
LOCATION:New Hope Church\, 35a Wansford Road\, Driffield\, YO25 5NB
CATEGORIES:Bible Study
ORGANIZER;CN="Pastor Rob Case":MAILTO:newhopechurch00@gmail.com
END:VEVENT
BEGIN:VEVENT
DTSTART;TZID=Europe/London:20240416T190000
DTEND;TZID=Europe/London:20240416T200000
DTSTAMP:20260422T052733
CREATED:20240226T131612Z
LAST-MODIFIED:20240226T131612Z
UID:35010-1713294000-1713297600@newhopedriffield.co.uk
SUMMARY:Bible Study
DESCRIPTION:
URL:https://newhopedriffield.co.uk/index.php/event/bible-study-65/
LOCATION:New Hope Church\, 35a Wansford Road\, Driffield\, YO25 5NB
CATEGORIES:Bible Study
ORGANIZER;CN="Pastor Rob Case":MAILTO:newhopechurch00@gmail.com
END:VEVENT
BEGIN:VEVENT
DTSTART;TZID=Europe/London:20240409T190000
DTEND;TZID=Europe/London:20240409T200000
DTSTAMP:20260422T052733
CREATED:20240226T131558Z
LAST-MODIFIED:20240226T131558Z
UID:35008-1712689200-1712692800@newhopedriffield.co.uk
SUMMARY:Bible Study
DESCRIPTION:
URL:https://newhopedriffield.co.uk/index.php/event/bible-study-64/
LOCATION:New Hope Church\, 35a Wansford Road\, Driffield\, YO25 5NB
CATEGORIES:Bible Study
ORGANIZER;CN="Pastor Rob Case":MAILTO:newhopechurch00@gmail.com
END:VEVENT
BEGIN:VEVENT
DTSTART;TZID=Europe/London:20240402T190000
DTEND;TZID=Europe/London:20240402T200000
DTSTAMP:20260422T052733
CREATED:20240226T131544Z
LAST-MODIFIED:20240226T131544Z
UID:35006-1712084400-1712088000@newhopedriffield.co.uk
SUMMARY:Bible Study
DESCRIPTION:
URL:https://newhopedriffield.co.uk/index.php/event/bible-study-63/
LOCATION:New Hope Church\, 35a Wansford Road\, Driffield\, YO25 5NB
CATEGORIES:Bible Study
ORGANIZER;CN="Pastor Rob Case":MAILTO:newhopechurch00@gmail.com
END:VEVENT
BEGIN:VEVENT
DTSTART;TZID=Europe/London:20240326T190000
DTEND;TZID=Europe/London:20240326T200000
DTSTAMP:20260422T052733
CREATED:20240121T154342Z
LAST-MODIFIED:20240121T154342Z
UID:34794-1711479600-1711483200@newhopedriffield.co.uk
SUMMARY:Bible Study
DESCRIPTION:
URL:https://newhopedriffield.co.uk/index.php/event/bible-study-62/
LOCATION:New Hope Church\, 35a Wansford Road\, Driffield\, YO25 5NB
CATEGORIES:Bible Study
ORGANIZER;CN="Pastor Rob Case":MAILTO:newhopechurch00@gmail.com
END:VEVENT
BEGIN:VEVENT
DTSTART;TZID=Europe/London:20240319T190000
DTEND;TZID=Europe/London:20240319T200000
DTSTAMP:20260422T052733
CREATED:20240121T154320Z
LAST-MODIFIED:20240121T154320Z
UID:34792-1710874800-1710878400@newhopedriffield.co.uk
SUMMARY:Bible Study
DESCRIPTION:
URL:https://newhopedriffield.co.uk/index.php/event/bible-study-61/
LOCATION:New Hope Church\, 35a Wansford Road\, Driffield\, YO25 5NB
CATEGORIES:Bible Study
ORGANIZER;CN="Pastor Rob Case":MAILTO:newhopechurch00@gmail.com
END:VEVENT
BEGIN:VEVENT
DTSTART;TZID=Europe/London:20240312T190000
DTEND;TZID=Europe/London:20240312T200000
DTSTAMP:20260422T052733
CREATED:20240121T154303Z
LAST-MODIFIED:20240121T154303Z
UID:34790-1710270000-1710273600@newhopedriffield.co.uk
SUMMARY:Bible Study
DESCRIPTION:
URL:https://newhopedriffield.co.uk/index.php/event/bible-study-60/
LOCATION:New Hope Church\, 35a Wansford Road\, Driffield\, YO25 5NB
CATEGORIES:Bible Study
ORGANIZER;CN="Pastor Rob Case":MAILTO:newhopechurch00@gmail.com
END:VEVENT
BEGIN:VEVENT
DTSTART;TZID=Europe/London:20240305T190000
DTEND;TZID=Europe/London:20240305T200000
DTSTAMP:20260422T052733
CREATED:20240121T154235Z
LAST-MODIFIED:20240121T154248Z
UID:34788-1709665200-1709668800@newhopedriffield.co.uk
SUMMARY:Bible Study
DESCRIPTION:
URL:https://newhopedriffield.co.uk/index.php/event/bible-study-59/
LOCATION:New Hope Church\, 35a Wansford Road\, Driffield\, YO25 5NB
CATEGORIES:Bible Study
ORGANIZER;CN="Pastor Rob Case":MAILTO:newhopechurch00@gmail.com
END:VEVENT
BEGIN:VEVENT
DTSTART;TZID=Europe/London:20240227T190000
DTEND;TZID=Europe/London:20240227T200000
DTSTAMP:20260422T052733
CREATED:20240121T171640Z
LAST-MODIFIED:20240121T171640Z
UID:34976-1709060400-1709064000@newhopedriffield.co.uk
SUMMARY:Bible Study
DESCRIPTION:
URL:https://newhopedriffield.co.uk/index.php/event/bible-study-56/
LOCATION:New Hope Church\, 35a Wansford Road\, Driffield\, YO25 5NB
CATEGORIES:Bible Study
ORGANIZER;CN="Pastor Rob Case":MAILTO:newhopechurch00@gmail.com
END:VEVENT
BEGIN:VEVENT
DTSTART;TZID=Europe/London:20240220T190000
DTEND;TZID=Europe/London:20240220T200000
DTSTAMP:20260422T052733
CREATED:20240121T154221Z
LAST-MODIFIED:20240121T154221Z
UID:34786-1708455600-1708459200@newhopedriffield.co.uk
SUMMARY:Bible Study
DESCRIPTION:
URL:https://newhopedriffield.co.uk/index.php/event/bible-study-58/
LOCATION:New Hope Church\, 35a Wansford Road\, Driffield\, YO25 5NB
CATEGORIES:Bible Study
ORGANIZER;CN="Pastor Rob Case":MAILTO:newhopechurch00@gmail.com
END:VEVENT
BEGIN:VEVENT
DTSTART;TZID=Europe/London:20240213T190000
DTEND;TZID=Europe/London:20240213T200000
DTSTAMP:20260422T052733
CREATED:20240121T154207Z
LAST-MODIFIED:20240121T154207Z
UID:34784-1707850800-1707854400@newhopedriffield.co.uk
SUMMARY:Bible Study
DESCRIPTION:
URL:https://newhopedriffield.co.uk/index.php/event/bible-study-57/
LOCATION:New Hope Church\, 35a Wansford Road\, Driffield\, YO25 5NB
CATEGORIES:Bible Study
ORGANIZER;CN="Pastor Rob Case":MAILTO:newhopechurch00@gmail.com
END:VEVENT
BEGIN:VEVENT
DTSTART;TZID=Europe/London:20240206T190000
DTEND;TZID=Europe/London:20240206T200000
DTSTAMP:20260422T052733
CREATED:20240121T154148Z
LAST-MODIFIED:20240121T154148Z
UID:34782-1707246000-1707249600@newhopedriffield.co.uk
SUMMARY:Bible Study
DESCRIPTION:
URL:https://newhopedriffield.co.uk/index.php/event/bible-study-52/
LOCATION:New Hope Church\, 35a Wansford Road\, Driffield\, YO25 5NB
CATEGORIES:Bible Study
ORGANIZER;CN="Pastor Rob Case":MAILTO:newhopechurch00@gmail.com
END:VEVENT
BEGIN:VEVENT
DTSTART;TZID=Europe/London:20240123T190000
DTEND;TZID=Europe/London:20240123T200000
DTSTAMP:20260422T052733
CREATED:20231119T133340Z
LAST-MODIFIED:20231119T133340Z
UID:34624-1706036400-1706040000@newhopedriffield.co.uk
SUMMARY:Bible Study
DESCRIPTION:
URL:https://newhopedriffield.co.uk/index.php/event/bible-study-55/
LOCATION:New Hope Church\, 35a Wansford Road\, Driffield\, YO25 5NB
CATEGORIES:Bible Study
ORGANIZER;CN="Pastor Rob Case":MAILTO:newhopechurch00@gmail.com
END:VEVENT
BEGIN:VEVENT
DTSTART;TZID=Europe/London:20240116T190000
DTEND;TZID=Europe/London:20240116T200000
DTSTAMP:20260422T052733
CREATED:20231119T133326Z
LAST-MODIFIED:20231119T133326Z
UID:34622-1705431600-1705435200@newhopedriffield.co.uk
SUMMARY:Bible Study
DESCRIPTION:
URL:https://newhopedriffield.co.uk/index.php/event/bible-study-54/
LOCATION:New Hope Church\, 35a Wansford Road\, Driffield\, YO25 5NB
CATEGORIES:Bible Study
ORGANIZER;CN="Pastor Rob Case":MAILTO:newhopechurch00@gmail.com
END:VEVENT
END:VCALENDAR